BEGIN:VCALENDAR
VERSION:2.0
PRODID:-//Gemeinde Simplon Dorf - ECPv6.15.20//NONSGML v1.0//EN
CALSCALE:GREGORIAN
METHOD:PUBLISH
X-ORIGINAL-URL:https://gemeinde-simplon.ch
X-WR-CALDESC:Veranstaltungen für Gemeinde Simplon Dorf
REFRESH-INTERVAL;VALUE=DURATION:PT1H
X-Robots-Tag:noindex
X-PUBLISHED-TTL:PT1H
BEGIN:VTIMEZONE
TZID:Europe/Zurich
BEGIN:DAYLIGHT
TZOFFSETFROM:+0100
TZOFFSETTO:+0200
TZNAME:CEST
DTSTART:20230326T010000
END:DAYLIGHT
BEGIN:STANDARD
TZOFFSETFROM:+0200
TZOFFSETTO:+0100
TZNAME:CET
DTSTART:20231029T010000
END:STANDARD
BEGIN:DAYLIGHT
TZOFFSETFROM:+0100
TZOFFSETTO:+0200
TZNAME:CEST
DTSTART:20240331T010000
END:DAYLIGHT
BEGIN:STANDARD
TZOFFSETFROM:+0200
TZOFFSETTO:+0100
TZNAME:CET
DTSTART:20241027T010000
END:STANDARD
BEGIN:DAYLIGHT
TZOFFSETFROM:+0100
TZOFFSETTO:+0200
TZNAME:CEST
DTSTART:20250330T010000
END:DAYLIGHT
BEGIN:STANDARD
TZOFFSETFROM:+0200
TZOFFSETTO:+0100
TZNAME:CET
DTSTART:20251026T010000
END:STANDARD
END:VTIMEZONE
BEGIN:VEVENT
DTSTART;TZID=Europe/Zurich:20240525T150000
DTEND;TZID=Europe/Zurich:20240525T190000
DTSTAMP:20260423T080049
CREATED:20231221T130319Z
LAST-MODIFIED:20231221T130319Z
UID:10001365-1716649200-1716663600@gemeinde-simplon.ch
SUMMARY:Feldschiessen - Schiessverein Simplon
DESCRIPTION:
URL:https://gemeinde-simplon.ch/anlass/feldschiessen-schiessverein-simplon-6/
LOCATION:Schiessstand Heji
END:VEVENT
BEGIN:VEVENT
DTSTART;TZID=Europe/Zurich:20240525T200000
DTEND;TZID=Europe/Zurich:20240525T220000
DTSTAMP:20260423T080049
CREATED:20231221T130535Z
LAST-MODIFIED:20231221T130535Z
UID:10001366-1716667200-1716674400@gemeinde-simplon.ch
SUMMARY:Jahreskonzert - Musikgesellschaft Bleiken
DESCRIPTION:
URL:https://gemeinde-simplon.ch/anlass/jahreskonzert-musikgesellschaft-bleiken-3/
LOCATION:Schulhaus
END:VEVENT
END:VCALENDAR