BEGIN:VCALENDAR
VERSION:2.0
PRODID:-//Gemeinde Simplon Dorf - ECPv6.15.20//NONSGML v1.0//EN
CALSCALE:GREGORIAN
METHOD:PUBLISH
X-WR-CALNAME:Gemeinde Simplon Dorf
X-ORIGINAL-URL:https://gemeinde-simplon.ch
X-WR-CALDESC:Veranstaltungen für Gemeinde Simplon Dorf
REFRESH-INTERVAL;VALUE=DURATION:PT1H
X-Robots-Tag:noindex
X-PUBLISHED-TTL:PT1H
BEGIN:VTIMEZONE
TZID:Europe/Zurich
BEGIN:DAYLIGHT
TZOFFSETFROM:+0100
TZOFFSETTO:+0200
TZNAME:CEST
DTSTART:20230326T010000
END:DAYLIGHT
BEGIN:STANDARD
TZOFFSETFROM:+0200
TZOFFSETTO:+0100
TZNAME:CET
DTSTART:20231029T010000
END:STANDARD
BEGIN:DAYLIGHT
TZOFFSETFROM:+0100
TZOFFSETTO:+0200
TZNAME:CEST
DTSTART:20240331T010000
END:DAYLIGHT
BEGIN:STANDARD
TZOFFSETFROM:+0200
TZOFFSETTO:+0100
TZNAME:CET
DTSTART:20241027T010000
END:STANDARD
BEGIN:DAYLIGHT
TZOFFSETFROM:+0100
TZOFFSETTO:+0200
TZNAME:CEST
DTSTART:20250330T010000
END:DAYLIGHT
BEGIN:STANDARD
TZOFFSETFROM:+0200
TZOFFSETTO:+0100
TZNAME:CET
DTSTART:20251026T010000
END:STANDARD
END:VTIMEZONE
BEGIN:VEVENT
DTSTART;VALUE=DATE:20240803
DTEND;VALUE=DATE:20240805
DTSTAMP:20260423T032109
CREATED:20231222T094456Z
LAST-MODIFIED:20231222T094456Z
UID:10001389-1722672000-1722758399@gemeinde-simplon.ch
SUMMARY:Pinaki - Ecomuseum
DESCRIPTION:
URL:https://gemeinde-simplon.ch/anlass/pinaki-ecomuseum/
LOCATION:Alter Gasthof
END:VEVENT
BEGIN:VEVENT
DTSTART;TZID=Europe/Zurich:20240803T080000
DTEND;TZID=Europe/Zurich:20240804T180000
DTSTAMP:20260423T032109
CREATED:20231222T094344Z
LAST-MODIFIED:20240109T164649Z
UID:10001165-1722672000-1722794400@gemeinde-simplon.ch
SUMMARY:Gondo Marathon - Feuerwehr Simplon-Süd
DESCRIPTION:
URL:https://gemeinde-simplon.ch/anlass/gondo-marathon-feuerwehr-simplon-sued/
END:VEVENT
BEGIN:VEVENT
DTSTART;TZID=Europe/Zurich:20240803T210000
DTEND;TZID=Europe/Zurich:20240803T233000
DTSTAMP:20260423T032109
CREATED:20231222T094152Z
LAST-MODIFIED:20231222T094152Z
UID:10001163-1722718800-1722727800@gemeinde-simplon.ch
SUMMARY:Nachtschiessen - Kleinkaliberverein Simplon
DESCRIPTION:
URL:https://gemeinde-simplon.ch/anlass/nachtschiessen-kleinkaliberverein-simplon-3/
LOCATION:Klelinkaliberstand
END:VEVENT
END:VCALENDAR