BEGIN:VCALENDAR
VERSION:2.0
PRODID:-//Gemeinde Simplon Dorf - ECPv6.15.20//NONSGML v1.0//EN
CALSCALE:GREGORIAN
METHOD:PUBLISH
X-ORIGINAL-URL:https://gemeinde-simplon.ch
X-WR-CALDESC:Veranstaltungen für Gemeinde Simplon Dorf
REFRESH-INTERVAL;VALUE=DURATION:PT1H
X-Robots-Tag:noindex
X-PUBLISHED-TTL:PT1H
BEGIN:VTIMEZONE
TZID:Europe/Zurich
BEGIN:DAYLIGHT
TZOFFSETFROM:+0100
TZOFFSETTO:+0200
TZNAME:CEST
DTSTART:20230326T010000
END:DAYLIGHT
BEGIN:STANDARD
TZOFFSETFROM:+0200
TZOFFSETTO:+0100
TZNAME:CET
DTSTART:20231029T010000
END:STANDARD
BEGIN:DAYLIGHT
TZOFFSETFROM:+0100
TZOFFSETTO:+0200
TZNAME:CEST
DTSTART:20240331T010000
END:DAYLIGHT
BEGIN:STANDARD
TZOFFSETFROM:+0200
TZOFFSETTO:+0100
TZNAME:CET
DTSTART:20241027T010000
END:STANDARD
BEGIN:DAYLIGHT
TZOFFSETFROM:+0100
TZOFFSETTO:+0200
TZNAME:CEST
DTSTART:20250330T010000
END:DAYLIGHT
BEGIN:STANDARD
TZOFFSETFROM:+0200
TZOFFSETTO:+0100
TZNAME:CET
DTSTART:20251026T010000
END:STANDARD
END:VTIMEZONE
BEGIN:VEVENT
DTSTART;TZID=Europe/Zurich:20241026T200000
DTEND;TZID=Europe/Zurich:20241026T233000
DTSTAMP:20260423T002005
CREATED:20231222T105828Z
LAST-MODIFIED:20231222T105828Z
UID:10001416-1729972800-1729985400@gemeinde-simplon.ch
SUMMARY:Generalversammlung - Skiclub Fletschhorn
DESCRIPTION:
URL:https://gemeinde-simplon.ch/anlass/generalversammlung-skiclub-fletschhorn-3/
END:VEVENT
END:VCALENDAR