BEGIN:VCALENDAR
VERSION:2.0
PRODID:-//Gemeinde Simplon Dorf - ECPv6.15.20//NONSGML v1.0//EN
CALSCALE:GREGORIAN
METHOD:PUBLISH
X-ORIGINAL-URL:https://gemeinde-simplon.ch
X-WR-CALDESC:Veranstaltungen für Gemeinde Simplon Dorf
REFRESH-INTERVAL;VALUE=DURATION:PT1H
X-Robots-Tag:noindex
X-PUBLISHED-TTL:PT1H
BEGIN:VTIMEZONE
TZID:Europe/Zurich
BEGIN:DAYLIGHT
TZOFFSETFROM:+0100
TZOFFSETTO:+0200
TZNAME:CEST
DTSTART:20230326T010000
END:DAYLIGHT
BEGIN:STANDARD
TZOFFSETFROM:+0200
TZOFFSETTO:+0100
TZNAME:CET
DTSTART:20231029T010000
END:STANDARD
BEGIN:DAYLIGHT
TZOFFSETFROM:+0100
TZOFFSETTO:+0200
TZNAME:CEST
DTSTART:20240331T010000
END:DAYLIGHT
BEGIN:STANDARD
TZOFFSETFROM:+0200
TZOFFSETTO:+0100
TZNAME:CET
DTSTART:20241027T010000
END:STANDARD
BEGIN:DAYLIGHT
TZOFFSETFROM:+0100
TZOFFSETTO:+0200
TZNAME:CEST
DTSTART:20250330T010000
END:DAYLIGHT
BEGIN:STANDARD
TZOFFSETFROM:+0200
TZOFFSETTO:+0100
TZNAME:CET
DTSTART:20251026T010000
END:STANDARD
END:VTIMEZONE
BEGIN:VEVENT
DTSTART;TZID=Europe/Zurich:20241031T130000
DTEND;TZID=Europe/Zurich:20241031T143000
DTSTAMP:20260422T223417
CREATED:20231222T110243Z
LAST-MODIFIED:20231222T110243Z
UID:10001419-1730379600-1730385000@gemeinde-simplon.ch
SUMMARY:Kartonsammlung
DESCRIPTION:
URL:https://gemeinde-simplon.ch/anlass/kartonsammlung-23/
LOCATION:Kaplaneigebäude
END:VEVENT
BEGIN:VEVENT
DTSTART;TZID=Europe/Zurich:20241031T190000
DTEND;TZID=Europe/Zurich:20241031T213000
DTSTAMP:20260422T223417
CREATED:20231222T105957Z
LAST-MODIFIED:20231222T105957Z
UID:10001417-1730401200-1730410200@gemeinde-simplon.ch
SUMMARY:Atemschutz - Feuerwehr Simplon-Süd
DESCRIPTION:
URL:https://gemeinde-simplon.ch/anlass/atemschutz-feuerwehr-simplon-sued-6/
LOCATION:Feuerwehrlokal Blatt
END:VEVENT
BEGIN:VEVENT
DTSTART;TZID=Europe/Zurich:20241031T190000
DTEND;TZID=Europe/Zurich:20241031T233000
DTSTAMP:20260422T223417
CREATED:20231222T110124Z
LAST-MODIFIED:20241016T151929Z
UID:10001418-1730401200-1730417400@gemeinde-simplon.ch
SUMMARY:Mitgliederversammlung - Frauengemeinschaft
DESCRIPTION:
URL:https://gemeinde-simplon.ch/anlass/mitgliederversammlung-frauengemeinschaft-2/
END:VEVENT
END:VCALENDAR