BEGIN:VCALENDAR
VERSION:2.0
PRODID:-//Gemeinde Simplon Dorf - ECPv6.15.20//NONSGML v1.0//EN
CALSCALE:GREGORIAN
METHOD:PUBLISH
X-WR-CALNAME:Gemeinde Simplon Dorf
X-ORIGINAL-URL:https://gemeinde-simplon.ch
X-WR-CALDESC:Veranstaltungen für Gemeinde Simplon Dorf
REFRESH-INTERVAL;VALUE=DURATION:PT1H
X-Robots-Tag:noindex
X-PUBLISHED-TTL:PT1H
BEGIN:VTIMEZONE
TZID:Europe/Zurich
BEGIN:DAYLIGHT
TZOFFSETFROM:+0100
TZOFFSETTO:+0200
TZNAME:CEST
DTSTART:20230326T010000
END:DAYLIGHT
BEGIN:STANDARD
TZOFFSETFROM:+0200
TZOFFSETTO:+0100
TZNAME:CET
DTSTART:20231029T010000
END:STANDARD
BEGIN:DAYLIGHT
TZOFFSETFROM:+0100
TZOFFSETTO:+0200
TZNAME:CEST
DTSTART:20240331T010000
END:DAYLIGHT
BEGIN:STANDARD
TZOFFSETFROM:+0200
TZOFFSETTO:+0100
TZNAME:CET
DTSTART:20241027T010000
END:STANDARD
BEGIN:DAYLIGHT
TZOFFSETFROM:+0100
TZOFFSETTO:+0200
TZNAME:CEST
DTSTART:20250330T010000
END:DAYLIGHT
BEGIN:STANDARD
TZOFFSETFROM:+0200
TZOFFSETTO:+0100
TZNAME:CET
DTSTART:20251026T010000
END:STANDARD
END:VTIMEZONE
BEGIN:VEVENT
DTSTART;TZID=Europe/Zurich:20241121T190000
DTEND;TZID=Europe/Zurich:20241121T213000
DTSTAMP:20260422T223219
CREATED:20231222T112119Z
LAST-MODIFIED:20231222T112119Z
UID:10001428-1732215600-1732224600@gemeinde-simplon.ch
SUMMARY:Atemschutz - Feuerwehr Simplon-Süd
DESCRIPTION:
URL:https://gemeinde-simplon.ch/anlass/atemschutz-feuerwehr-simplon-sued-7/
LOCATION:Feuerwehrlokal Blatt
END:VEVENT
BEGIN:VEVENT
DTSTART;TZID=Europe/Zurich:20241121T193000
DTEND;TZID=Europe/Zurich:20241121T220000
DTSTAMP:20260422T223219
CREATED:20241118T140937Z
LAST-MODIFIED:20241118T140937Z
UID:10001464-1732217400-1732226400@gemeinde-simplon.ch
SUMMARY:Filmabend - Frauengemeinschaft
DESCRIPTION:
URL:https://gemeinde-simplon.ch/anlass/filmabend-frauengemeinschaft/
LOCATION:Alter Gasthof
END:VEVENT
END:VCALENDAR