BEGIN:VCALENDAR
VERSION:2.0
PRODID:-//Gemeinde Simplon Dorf - ECPv6.15.20//NONSGML v1.0//EN
CALSCALE:GREGORIAN
METHOD:PUBLISH
X-ORIGINAL-URL:https://gemeinde-simplon.ch
X-WR-CALDESC:Veranstaltungen für Gemeinde Simplon Dorf
REFRESH-INTERVAL;VALUE=DURATION:PT1H
X-Robots-Tag:noindex
X-PUBLISHED-TTL:PT1H
BEGIN:VTIMEZONE
TZID:Europe/Zurich
BEGIN:DAYLIGHT
TZOFFSETFROM:+0100
TZOFFSETTO:+0200
TZNAME:CEST
DTSTART:20250330T010000
END:DAYLIGHT
BEGIN:STANDARD
TZOFFSETFROM:+0200
TZOFFSETTO:+0100
TZNAME:CET
DTSTART:20251026T010000
END:STANDARD
BEGIN:DAYLIGHT
TZOFFSETFROM:+0100
TZOFFSETTO:+0200
TZNAME:CEST
DTSTART:20260329T010000
END:DAYLIGHT
BEGIN:STANDARD
TZOFFSETFROM:+0200
TZOFFSETTO:+0100
TZNAME:CET
DTSTART:20261025T010000
END:STANDARD
BEGIN:DAYLIGHT
TZOFFSETFROM:+0100
TZOFFSETTO:+0200
TZNAME:CEST
DTSTART:20270328T010000
END:DAYLIGHT
BEGIN:STANDARD
TZOFFSETFROM:+0200
TZOFFSETTO:+0100
TZNAME:CET
DTSTART:20271031T010000
END:STANDARD
END:VTIMEZONE
BEGIN:VEVENT
DTSTART;VALUE=DATE:20260402
DTEND;VALUE=DATE:20260404
DTSTAMP:20260421T195658
CREATED:20251230T131715Z
LAST-MODIFIED:20251230T131715Z
UID:10001853-1775116800-1775203199@gemeinde-simplon.ch
SUMMARY:Gründonnerstag - Kirchenchor
DESCRIPTION:
URL:https://gemeinde-simplon.ch/anlass/gruendonnerstag-kirchenchor-5/
LOCATION:Kirche
END:VEVENT
BEGIN:VEVENT
DTSTART;TZID=Europe/Zurich:20260402T190000
DTEND;TZID=Europe/Zurich:20260402T210000
DTSTAMP:20260421T195658
CREATED:20251217T104548Z
LAST-MODIFIED:20251217T104548Z
UID:10001751-1775156400-1775163600@gemeinde-simplon.ch
SUMMARY:Kaderübung - Feuerwehr Simplon-Süd
DESCRIPTION:
URL:https://gemeinde-simplon.ch/anlass/kaderuebung-feuerwehr-simplon-sued-6/2026-04-02/
END:VEVENT
BEGIN:VEVENT
DTSTART;TZID=Europe/Zurich:20260402T200000
DTEND;TZID=Europe/Zurich:20260402T203000
DTSTAMP:20260421T195658
CREATED:20251230T131419Z
LAST-MODIFIED:20251230T131419Z
UID:10001850-1775160000-1775161800@gemeinde-simplon.ch
SUMMARY:Rällu
DESCRIPTION:
URL:https://gemeinde-simplon.ch/anlass/raellu-6/
LOCATION:Dorfplatz
END:VEVENT
BEGIN:VEVENT
DTSTART;TZID=Europe/Zurich:20260403T070000
DTEND;TZID=Europe/Zurich:20260403T203000
DTSTAMP:20260421T195658
CREATED:20251230T131530Z
LAST-MODIFIED:20251230T131530Z
UID:10001851-1775199600-1775248200@gemeinde-simplon.ch
SUMMARY:Rällu
DESCRIPTION:
URL:https://gemeinde-simplon.ch/anlass/raellu-7/
LOCATION:Dorfplatz
END:VEVENT
END:VCALENDAR