BEGIN:VCALENDAR
VERSION:2.0
PRODID:-//Gemeinde Simplon Dorf - ECPv6.15.20//NONSGML v1.0//EN
CALSCALE:GREGORIAN
METHOD:PUBLISH
X-WR-CALNAME:Gemeinde Simplon Dorf
X-ORIGINAL-URL:https://gemeinde-simplon.ch
X-WR-CALDESC:Veranstaltungen für Gemeinde Simplon Dorf
REFRESH-INTERVAL;VALUE=DURATION:PT1H
X-Robots-Tag:noindex
X-PUBLISHED-TTL:PT1H
BEGIN:VTIMEZONE
TZID:Europe/Zurich
BEGIN:DAYLIGHT
TZOFFSETFROM:+0100
TZOFFSETTO:+0200
TZNAME:CEST
DTSTART:20250330T010000
END:DAYLIGHT
BEGIN:STANDARD
TZOFFSETFROM:+0200
TZOFFSETTO:+0100
TZNAME:CET
DTSTART:20251026T010000
END:STANDARD
BEGIN:DAYLIGHT
TZOFFSETFROM:+0100
TZOFFSETTO:+0200
TZNAME:CEST
DTSTART:20260329T010000
END:DAYLIGHT
BEGIN:STANDARD
TZOFFSETFROM:+0200
TZOFFSETTO:+0100
TZNAME:CET
DTSTART:20261025T010000
END:STANDARD
BEGIN:DAYLIGHT
TZOFFSETFROM:+0100
TZOFFSETTO:+0200
TZNAME:CEST
DTSTART:20270328T010000
END:DAYLIGHT
BEGIN:STANDARD
TZOFFSETFROM:+0200
TZOFFSETTO:+0100
TZNAME:CET
DTSTART:20271031T010000
END:STANDARD
END:VTIMEZONE
BEGIN:VEVENT
DTSTART;TZID=Europe/Zurich:20260403T070000
DTEND;TZID=Europe/Zurich:20260403T203000
DTSTAMP:20260421T181459
CREATED:20251230T131530Z
LAST-MODIFIED:20251230T131530Z
UID:10001851-1775199600-1775248200@gemeinde-simplon.ch
SUMMARY:Rällu
DESCRIPTION:
URL:https://gemeinde-simplon.ch/anlass/raellu-7/
LOCATION:Dorfplatz
END:VEVENT
BEGIN:VEVENT
DTSTART;VALUE=DATE:20260403
DTEND;VALUE=DATE:20260405
DTSTAMP:20260421T181459
CREATED:20251230T131754Z
LAST-MODIFIED:20251230T131754Z
UID:10001854-1775203200-1775289599@gemeinde-simplon.ch
SUMMARY:Karfreitag - Kirchenchor
DESCRIPTION:
URL:https://gemeinde-simplon.ch/anlass/karfreitag-kirchenchor-5/
LOCATION:Kirche
END:VEVENT
BEGIN:VEVENT
DTSTART;TZID=Europe/Zurich:20260404T070000
DTEND;TZID=Europe/Zurich:20260404T213000
DTSTAMP:20260421T181459
CREATED:20251230T131629Z
LAST-MODIFIED:20251230T131629Z
UID:10001852-1775286000-1775338200@gemeinde-simplon.ch
SUMMARY:Rällu
DESCRIPTION:
URL:https://gemeinde-simplon.ch/anlass/raellu-8/
LOCATION:Dorfplatz
END:VEVENT
END:VCALENDAR