BEGIN:VCALENDAR
VERSION:2.0
PRODID:-//Gemeinde Simplon Dorf - ECPv6.15.20//NONSGML v1.0//EN
CALSCALE:GREGORIAN
METHOD:PUBLISH
X-ORIGINAL-URL:https://gemeinde-simplon.ch
X-WR-CALDESC:Veranstaltungen für Gemeinde Simplon Dorf
REFRESH-INTERVAL;VALUE=DURATION:PT1H
X-Robots-Tag:noindex
X-PUBLISHED-TTL:PT1H
BEGIN:VTIMEZONE
TZID:Europe/Zurich
BEGIN:DAYLIGHT
TZOFFSETFROM:+0100
TZOFFSETTO:+0200
TZNAME:CEST
DTSTART:20250330T010000
END:DAYLIGHT
BEGIN:STANDARD
TZOFFSETFROM:+0200
TZOFFSETTO:+0100
TZNAME:CET
DTSTART:20251026T010000
END:STANDARD
BEGIN:DAYLIGHT
TZOFFSETFROM:+0100
TZOFFSETTO:+0200
TZNAME:CEST
DTSTART:20260329T010000
END:DAYLIGHT
BEGIN:STANDARD
TZOFFSETFROM:+0200
TZOFFSETTO:+0100
TZNAME:CET
DTSTART:20261025T010000
END:STANDARD
BEGIN:DAYLIGHT
TZOFFSETFROM:+0100
TZOFFSETTO:+0200
TZNAME:CEST
DTSTART:20270328T010000
END:DAYLIGHT
BEGIN:STANDARD
TZOFFSETFROM:+0200
TZOFFSETTO:+0100
TZNAME:CET
DTSTART:20271031T010000
END:STANDARD
END:VTIMEZONE
BEGIN:VEVENT
DTSTART;VALUE=DATE:20260502
DTEND;VALUE=DATE:20260504
DTSTAMP:20260421T181832
CREATED:20251230T125755Z
LAST-MODIFIED:20251230T125755Z
UID:10001843-1777708800-1777795199@gemeinde-simplon.ch
SUMMARY:Probehalbtag - Musikgesellschaft Bleiken
DESCRIPTION:
URL:https://gemeinde-simplon.ch/anlass/probehalbtag-musikgesellschaft-bleiken-11/
END:VEVENT
BEGIN:VEVENT
DTSTART;VALUE=DATE:20260502
DTEND;VALUE=DATE:20260504
DTSTAMP:20260421T181832
CREATED:20251230T132556Z
LAST-MODIFIED:20251230T132556Z
UID:10001859-1777708800-1777795199@gemeinde-simplon.ch
SUMMARY:Tag der Milch - Sennerei
DESCRIPTION:
URL:https://gemeinde-simplon.ch/anlass/tag-der-milch-sennerei-3/
LOCATION:Sennerei
END:VEVENT
BEGIN:VEVENT
DTSTART;TZID=Europe/Zurich:20260502T160000
DTEND;TZID=Europe/Zurich:20260502T200000
DTSTAMP:20260421T181832
CREATED:20251230T141835Z
LAST-MODIFIED:20251230T141835Z
UID:10001877-1777737600-1777752000@gemeinde-simplon.ch
SUMMARY:Schiessstand putzen und Eröffnungsschiessen - Schiessverein
DESCRIPTION:
URL:https://gemeinde-simplon.ch/anlass/schiessstand-putzen-und-eroeffnungsschiessen-schiessverein/
LOCATION:Schiessstand Heji
END:VEVENT
END:VCALENDAR