BEGIN:VCALENDAR
VERSION:2.0
PRODID:-//Gemeinde Simplon Dorf - ECPv6.15.20//NONSGML v1.0//EN
CALSCALE:GREGORIAN
METHOD:PUBLISH
X-ORIGINAL-URL:https://gemeinde-simplon.ch
X-WR-CALDESC:Veranstaltungen für Gemeinde Simplon Dorf
REFRESH-INTERVAL;VALUE=DURATION:PT1H
X-Robots-Tag:noindex
X-PUBLISHED-TTL:PT1H
BEGIN:VTIMEZONE
TZID:Europe/Zurich
BEGIN:DAYLIGHT
TZOFFSETFROM:+0100
TZOFFSETTO:+0200
TZNAME:CEST
DTSTART:20250330T010000
END:DAYLIGHT
BEGIN:STANDARD
TZOFFSETFROM:+0200
TZOFFSETTO:+0100
TZNAME:CET
DTSTART:20251026T010000
END:STANDARD
BEGIN:DAYLIGHT
TZOFFSETFROM:+0100
TZOFFSETTO:+0200
TZNAME:CEST
DTSTART:20260329T010000
END:DAYLIGHT
BEGIN:STANDARD
TZOFFSETFROM:+0200
TZOFFSETTO:+0100
TZNAME:CET
DTSTART:20261025T010000
END:STANDARD
BEGIN:DAYLIGHT
TZOFFSETFROM:+0100
TZOFFSETTO:+0200
TZNAME:CEST
DTSTART:20270328T010000
END:DAYLIGHT
BEGIN:STANDARD
TZOFFSETFROM:+0200
TZOFFSETTO:+0100
TZNAME:CET
DTSTART:20271031T010000
END:STANDARD
END:VTIMEZONE
BEGIN:VEVENT
DTSTART;VALUE=DATE:20260530
DTEND;VALUE=DATE:20260601
DTSTAMP:20260421T213105
CREATED:20251230T152202Z
LAST-MODIFIED:20251230T152202Z
UID:10001905-1780128000-1780214399@gemeinde-simplon.ch
SUMMARY:Bezirksmusikfest Eggerberg - Musikgesellschaft Bleiken
DESCRIPTION:
URL:https://gemeinde-simplon.ch/anlass/bezirksmusikfest-eggerberg-musikgesellschaft-bleiken/
END:VEVENT
BEGIN:VEVENT
DTSTART;VALUE=DATE:20260530
DTEND;VALUE=DATE:20260601
DTSTAMP:20260421T213105
CREATED:20251230T133422Z
LAST-MODIFIED:20251230T133422Z
UID:10001863-1780128000-1780214399@gemeinde-simplon.ch
SUMMARY:Vitaparcours Instandsetzung - Jugendverein
DESCRIPTION:
URL:https://gemeinde-simplon.ch/anlass/vitaparcours-instandsetzung-jugendverein-2/
END:VEVENT
BEGIN:VEVENT
DTSTART;TZID=Europe/Zurich:20260530T160000
DTEND;TZID=Europe/Zurich:20260530T200000
DTSTAMP:20260421T213105
CREATED:20251230T142214Z
LAST-MODIFIED:20251230T142214Z
UID:10001881-1780156800-1780171200@gemeinde-simplon.ch
SUMMARY:Feldschiessen - Schiessverein
DESCRIPTION:
URL:https://gemeinde-simplon.ch/anlass/feldschiessen-schiessverein/2026-05-30/
LOCATION:Schiessstand Heji
END:VEVENT
END:VCALENDAR