BEGIN:VCALENDAR
VERSION:2.0
PRODID:-//Gemeinde Simplon Dorf - ECPv6.15.20//NONSGML v1.0//EN
CALSCALE:GREGORIAN
METHOD:PUBLISH
X-WR-CALNAME:Gemeinde Simplon Dorf
X-ORIGINAL-URL:https://gemeinde-simplon.ch
X-WR-CALDESC:Veranstaltungen für Gemeinde Simplon Dorf
REFRESH-INTERVAL;VALUE=DURATION:PT1H
X-Robots-Tag:noindex
X-PUBLISHED-TTL:PT1H
BEGIN:VTIMEZONE
TZID:Europe/Zurich
BEGIN:DAYLIGHT
TZOFFSETFROM:+0100
TZOFFSETTO:+0200
TZNAME:CEST
DTSTART:20250330T010000
END:DAYLIGHT
BEGIN:STANDARD
TZOFFSETFROM:+0200
TZOFFSETTO:+0100
TZNAME:CET
DTSTART:20251026T010000
END:STANDARD
BEGIN:DAYLIGHT
TZOFFSETFROM:+0100
TZOFFSETTO:+0200
TZNAME:CEST
DTSTART:20260329T010000
END:DAYLIGHT
BEGIN:STANDARD
TZOFFSETFROM:+0200
TZOFFSETTO:+0100
TZNAME:CET
DTSTART:20261025T010000
END:STANDARD
BEGIN:DAYLIGHT
TZOFFSETFROM:+0100
TZOFFSETTO:+0200
TZNAME:CEST
DTSTART:20270328T010000
END:DAYLIGHT
BEGIN:STANDARD
TZOFFSETFROM:+0200
TZOFFSETTO:+0100
TZNAME:CET
DTSTART:20271031T010000
END:STANDARD
END:VTIMEZONE
BEGIN:VEVENT
DTSTART;VALUE=DATE:20260621
DTEND;VALUE=DATE:20260623
DTSTAMP:20260421T224636
CREATED:20251230T152329Z
LAST-MODIFIED:20251230T152329Z
UID:10001906-1782028800-1782115199@gemeinde-simplon.ch
SUMMARY:St. Johann Eggenprozession
DESCRIPTION:
URL:https://gemeinde-simplon.ch/anlass/st-johann-eggenprozession/
END:VEVENT
BEGIN:VEVENT
DTSTART;TZID=Europe/Zurich:20260621T140000
DTEND;TZID=Europe/Zurich:20260621T140000
DTSTAMP:20260421T224636
CREATED:20251230T152519Z
LAST-MODIFIED:20251230T152519Z
UID:10001907-1782050400-1782050400@gemeinde-simplon.ch
SUMMARY:Geteilenversammlung - Eggen
DESCRIPTION:
URL:https://gemeinde-simplon.ch/anlass/geteilenversammlung-eggen/
END:VEVENT
END:VCALENDAR