BEGIN:VCALENDAR
VERSION:2.0
PRODID:-//Gemeinde Simplon Dorf - ECPv6.15.20//NONSGML v1.0//EN
CALSCALE:GREGORIAN
METHOD:PUBLISH
X-WR-CALNAME:Gemeinde Simplon Dorf
X-ORIGINAL-URL:https://gemeinde-simplon.ch
X-WR-CALDESC:Veranstaltungen für Gemeinde Simplon Dorf
REFRESH-INTERVAL;VALUE=DURATION:PT1H
X-Robots-Tag:noindex
X-PUBLISHED-TTL:PT1H
BEGIN:VTIMEZONE
TZID:Europe/Zurich
BEGIN:DAYLIGHT
TZOFFSETFROM:+0100
TZOFFSETTO:+0200
TZNAME:CEST
DTSTART:20230326T010000
END:DAYLIGHT
BEGIN:STANDARD
TZOFFSETFROM:+0200
TZOFFSETTO:+0100
TZNAME:CET
DTSTART:20231029T010000
END:STANDARD
BEGIN:DAYLIGHT
TZOFFSETFROM:+0100
TZOFFSETTO:+0200
TZNAME:CEST
DTSTART:20240331T010000
END:DAYLIGHT
BEGIN:STANDARD
TZOFFSETFROM:+0200
TZOFFSETTO:+0100
TZNAME:CET
DTSTART:20241027T010000
END:STANDARD
BEGIN:DAYLIGHT
TZOFFSETFROM:+0100
TZOFFSETTO:+0200
TZNAME:CEST
DTSTART:20250330T010000
END:DAYLIGHT
BEGIN:STANDARD
TZOFFSETFROM:+0200
TZOFFSETTO:+0100
TZNAME:CET
DTSTART:20251026T010000
END:STANDARD
END:VTIMEZONE
BEGIN:VEVENT
DTSTART;VALUE=DATE:20240601
DTEND;VALUE=DATE:20240603
DTSTAMP:20260423T050313
CREATED:20231221T131500Z
LAST-MODIFIED:20231221T131500Z
UID:10001134-1717228800-1717315199@gemeinde-simplon.ch
SUMMARY:Bezirksmusikfest in Naters - Musikgesellschaft Bleiken
DESCRIPTION:﻿
URL:https://gemeinde-simplon.ch/anlass/bezirksmusikfest-in-naters-musikgesellschaft-bleiken/
END:VEVENT
BEGIN:VEVENT
DTSTART;TZID=Europe/Zurich:20240601T160000
DTEND;TZID=Europe/Zurich:20240601T190000
DTSTAMP:20260423T050313
CREATED:20231221T131321Z
LAST-MODIFIED:20231221T131321Z
UID:10001133-1717257600-1717268400@gemeinde-simplon.ch
SUMMARY:Trainingsschiessen - Kleinkaliberverein
DESCRIPTION:
URL:https://gemeinde-simplon.ch/anlass/trainingsschiessen-kleinkaliberverein-3/
END:VEVENT
BEGIN:VEVENT
DTSTART;TZID=Europe/Zurich:20240604T200000
DTEND;TZID=Europe/Zurich:20240604T220000
DTSTAMP:20260423T050313
CREATED:20231221T131627Z
LAST-MODIFIED:20231221T131627Z
UID:10001135-1717531200-1717538400@gemeinde-simplon.ch
SUMMARY:Monatsübung - Samariterverein
DESCRIPTION:﻿
URL:https://gemeinde-simplon.ch/anlass/monatsuebung-samariterverein-20/
LOCATION:Schulhaus
END:VEVENT
BEGIN:VEVENT
DTSTART;TZID=Europe/Zurich:20240606T190000
DTEND;TZID=Europe/Zurich:20240606T213000
DTSTAMP:20260423T050313
CREATED:20231221T132105Z
LAST-MODIFIED:20231221T132105Z
UID:10001137-1717700400-1717709400@gemeinde-simplon.ch
SUMMARY:Atemschutz - Feuerwehr Simplon-Süd
DESCRIPTION:﻿
URL:https://gemeinde-simplon.ch/anlass/atemschutz-feuerwehr-simplon-sued-5/
LOCATION:Feuerwehrlokal Blatt
END:VEVENT
BEGIN:VEVENT
DTSTART;TZID=Europe/Zurich:20240607T170000
DTEND;TZID=Europe/Zurich:20240609T170000
DTSTAMP:20260423T050313
CREATED:20231221T132339Z
LAST-MODIFIED:20231221T132339Z
UID:10001138-1717779600-1717952400@gemeinde-simplon.ch
SUMMARY:Ministrantenlager im Hospiz
DESCRIPTION:﻿
URL:https://gemeinde-simplon.ch/anlass/ministrantenlager-im-hospiz/
END:VEVENT
BEGIN:VEVENT
DTSTART;TZID=Europe/Zurich:20240607T190000
DTEND;TZID=Europe/Zurich:20240607T200000
DTSTAMP:20260423T050313
CREATED:20231221T133424Z
LAST-MODIFIED:20240605T082005Z
UID:10001369-1717786800-1717790400@gemeinde-simplon.ch
SUMMARY:Trainingsschiessen - Schiessverein Simplon
DESCRIPTION:﻿﻿
URL:https://gemeinde-simplon.ch/anlass/trainingsschiessen-schiessverein-simplon/
LOCATION:Schiessstand Heji
END:VEVENT
BEGIN:VEVENT
DTSTART;VALUE=DATE:20240608
DTEND;VALUE=DATE:20240610
DTSTAMP:20260423T050313
CREATED:20231221T132920Z
LAST-MODIFIED:20231221T132920Z
UID:10001139-1717833600-1717919999@gemeinde-simplon.ch
SUMMARY:Griessärnu-Derby - Skiclub Fletschhorn
DESCRIPTION:﻿
URL:https://gemeinde-simplon.ch/anlass/griessaernu-derby-skiclub-fletschhorn/
END:VEVENT
BEGIN:VEVENT
DTSTART;VALUE=DATE:20240608
DTEND;VALUE=DATE:20240610
DTSTAMP:20260423T050313
CREATED:20231221T133131Z
LAST-MODIFIED:20231221T133131Z
UID:10001367-1717833600-1717919999@gemeinde-simplon.ch
SUMMARY:Vitaparcours - Jugendverein Simplon
DESCRIPTION:﻿
URL:https://gemeinde-simplon.ch/anlass/vitaparcours-jugendverein-simplon/
END:VEVENT
BEGIN:VEVENT
DTSTART;VALUE=DATE:20240608
DTEND;VALUE=DATE:20240610
DTSTAMP:20260423T050313
CREATED:20231221T133246Z
LAST-MODIFIED:20231221T133246Z
UID:10001368-1717833600-1717919999@gemeinde-simplon.ch
SUMMARY:Vernissage Ecomuseum
DESCRIPTION:﻿
URL:https://gemeinde-simplon.ch/anlass/vernissage-ecomuseum/
END:VEVENT
BEGIN:VEVENT
DTSTART;VALUE=DATE:20240612
DTEND;VALUE=DATE:20240614
DTSTAMP:20260423T050313
CREATED:20231221T133553Z
LAST-MODIFIED:20231221T133553Z
UID:10001370-1718179200-1718265599@gemeinde-simplon.ch
SUMMARY:Pfarreiwallfahrt
DESCRIPTION:﻿
URL:https://gemeinde-simplon.ch/anlass/pfarreiwallfahrt-2/
END:VEVENT
BEGIN:VEVENT
DTSTART;TZID=Europe/Zurich:20240613T090000
DTEND;TZID=Europe/Zurich:20240613T120000
DTSTAMP:20260423T050313
CREATED:20231221T131750Z
LAST-MODIFIED:20240604T143238Z
UID:10001136-1718269200-1718280000@gemeinde-simplon.ch
SUMMARY:Kirche waschen
DESCRIPTION:﻿﻿﻿
URL:https://gemeinde-simplon.ch/anlass/kirche-waschen-2/
LOCATION:Kirche
END:VEVENT
BEGIN:VEVENT
DTSTART;VALUE=DATE:20240615
DTEND;VALUE=DATE:20240617
DTSTAMP:20260423T050313
CREATED:20231221T133908Z
LAST-MODIFIED:20231221T133908Z
UID:10001373-1718438400-1718524799@gemeinde-simplon.ch
SUMMARY:Carlo Schmidt - Ecomuseum
DESCRIPTION:﻿
URL:https://gemeinde-simplon.ch/anlass/carlo-schmidt-ecomuseum/
LOCATION:Alter Gasthof
END:VEVENT
BEGIN:VEVENT
DTSTART;TZID=Europe/Zurich:20240615T080000
DTEND;TZID=Europe/Zurich:20240616T235900
DTSTAMP:20260423T050313
CREATED:20231221T134029Z
LAST-MODIFIED:20240109T160746Z
UID:10001371-1718438400-1718582340@gemeinde-simplon.ch
SUMMARY:Ausflug Thörishaus - Musikgesellschaft Bleiken
DESCRIPTION:﻿﻿﻿﻿﻿﻿﻿
URL:https://gemeinde-simplon.ch/anlass/ausflug-thoerishaus-musikgesellschaft-bleiken/
END:VEVENT
BEGIN:VEVENT
DTSTART;TZID=Europe/Zurich:20240615T190000
DTEND;TZID=Europe/Zurich:20240615T200000
DTSTAMP:20260423T050313
CREATED:20231221T133738Z
LAST-MODIFIED:20240605T072824Z
UID:10001372-1718478000-1718481600@gemeinde-simplon.ch
SUMMARY:Training - Schiessverein Simplon
DESCRIPTION:
URL:https://gemeinde-simplon.ch/anlass/training-schiessverein-simplon-6/
LOCATION:Schiessstand Heji
END:VEVENT
BEGIN:VEVENT
DTSTART;TZID=Europe/Zurich:20240617T140000
DTEND;TZID=Europe/Zurich:20240617T160000
DTSTAMP:20260423T050313
CREATED:20231221T134238Z
LAST-MODIFIED:20231221T134238Z
UID:10001374-1718632800-1718640000@gemeinde-simplon.ch
SUMMARY:Abschluss - Frauengemeinschaft
DESCRIPTION:﻿
URL:https://gemeinde-simplon.ch/anlass/abschluss-frauengemeinschaft-2/
END:VEVENT
BEGIN:VEVENT
DTSTART;TZID=Europe/Zurich:20240621T190000
DTEND;TZID=Europe/Zurich:20240621T200000
DTSTAMP:20260423T050313
CREATED:20231221T134415Z
LAST-MODIFIED:20231221T134415Z
UID:10001375-1718996400-1719000000@gemeinde-simplon.ch
SUMMARY:Training - Schiessverein Simplon
DESCRIPTION:
URL:https://gemeinde-simplon.ch/anlass/training-schiessverein-simplon-7/
LOCATION:Schiessstand Heji
END:VEVENT
BEGIN:VEVENT
DTSTART;VALUE=DATE:20240622
DTEND;VALUE=DATE:20240624
DTSTAMP:20260423T050313
CREATED:20231221T134538Z
LAST-MODIFIED:20231221T134538Z
UID:10001376-1719043200-1719129599@gemeinde-simplon.ch
SUMMARY:Helga Zumstein - Ecomuseum
DESCRIPTION:
URL:https://gemeinde-simplon.ch/anlass/helga-zumstein-ecomuseum/
LOCATION:Alter Gasthof
END:VEVENT
BEGIN:VEVENT
DTSTART;TZID=Europe/Zurich:20240623T100000
DTEND;TZID=Europe/Zurich:20240623T180000
DTSTAMP:20260423T050313
CREATED:20231221T134711Z
LAST-MODIFIED:20240109T161450Z
UID:10001377-1719136800-1719165600@gemeinde-simplon.ch
SUMMARY:St. Johann Eggen - Prozession + Geteilenversammlung
DESCRIPTION:
URL:https://gemeinde-simplon.ch/anlass/st-johann-eggen-prozession-geteilenversammlung/
END:VEVENT
BEGIN:VEVENT
DTSTART;TZID=Europe/Zurich:20240627T130000
DTEND;TZID=Europe/Zurich:20240627T143000
DTSTAMP:20260423T050313
CREATED:20231221T135128Z
LAST-MODIFIED:20231221T135128Z
UID:10001379-1719493200-1719498600@gemeinde-simplon.ch
SUMMARY:Kartonsammlung
DESCRIPTION:﻿
URL:https://gemeinde-simplon.ch/anlass/kartonsammlung-19/
LOCATION:Kaplaneigebäude
END:VEVENT
BEGIN:VEVENT
DTSTART;VALUE=DATE:20240628
DTEND;VALUE=DATE:20240630
DTSTAMP:20260423T050313
CREATED:20231221T135322Z
LAST-MODIFIED:20231221T135322Z
UID:10001380-1719561600-1719647999@gemeinde-simplon.ch
SUMMARY:Schulschluss
DESCRIPTION:﻿
URL:https://gemeinde-simplon.ch/anlass/schulschluss-3/
END:VEVENT
BEGIN:VEVENT
DTSTART;TZID=Europe/Zurich:20240628T190000
DTEND;TZID=Europe/Zurich:20240628T200000
DTSTAMP:20260423T050313
CREATED:20231221T135444Z
LAST-MODIFIED:20231221T135444Z
UID:10001381-1719601200-1719604800@gemeinde-simplon.ch
SUMMARY:Training - Schiessverein Simplon
DESCRIPTION:﻿
URL:https://gemeinde-simplon.ch/anlass/training-schiessverein-simplon-8/
LOCATION:Schiessstand Heji
END:VEVENT
BEGIN:VEVENT
DTSTART;VALUE=DATE:20240629
DTEND;VALUE=DATE:20240701
DTSTAMP:20260423T050313
CREATED:20231221T135558Z
LAST-MODIFIED:20231221T135558Z
UID:10001382-1719648000-1719734399@gemeinde-simplon.ch
SUMMARY:Jasha Schmidt - Ecomuseum
DESCRIPTION:﻿
URL:https://gemeinde-simplon.ch/anlass/jasha-schmidt-ecomuseum/
LOCATION:Alter Gasthof
END:VEVENT
BEGIN:VEVENT
DTSTART;TZID=Europe/Zurich:20240629T080000
DTEND;TZID=Europe/Zurich:20240630T235900
DTSTAMP:20260423T050313
CREATED:20231221T135707Z
LAST-MODIFIED:20240109T160943Z
UID:10001383-1719648000-1719791940@gemeinde-simplon.ch
SUMMARY:Ausflug - Schiessverein Simplon
DESCRIPTION:﻿﻿﻿
URL:https://gemeinde-simplon.ch/anlass/ausflug-schiessverein-simplon/
END:VEVENT
END:VCALENDAR