BEGIN:VCALENDAR
VERSION:2.0
PRODID:-//Gemeinde Simplon Dorf - ECPv6.15.20//NONSGML v1.0//EN
CALSCALE:GREGORIAN
METHOD:PUBLISH
X-WR-CALNAME:Gemeinde Simplon Dorf
X-ORIGINAL-URL:https://gemeinde-simplon.ch
X-WR-CALDESC:Veranstaltungen für Gemeinde Simplon Dorf
REFRESH-INTERVAL;VALUE=DURATION:PT1H
X-Robots-Tag:noindex
X-PUBLISHED-TTL:PT1H
BEGIN:VTIMEZONE
TZID:Europe/Zurich
BEGIN:DAYLIGHT
TZOFFSETFROM:+0100
TZOFFSETTO:+0200
TZNAME:CEST
DTSTART:20230326T010000
END:DAYLIGHT
BEGIN:STANDARD
TZOFFSETFROM:+0200
TZOFFSETTO:+0100
TZNAME:CET
DTSTART:20231029T010000
END:STANDARD
BEGIN:DAYLIGHT
TZOFFSETFROM:+0100
TZOFFSETTO:+0200
TZNAME:CEST
DTSTART:20240331T010000
END:DAYLIGHT
BEGIN:STANDARD
TZOFFSETFROM:+0200
TZOFFSETTO:+0100
TZNAME:CET
DTSTART:20241027T010000
END:STANDARD
BEGIN:DAYLIGHT
TZOFFSETFROM:+0100
TZOFFSETTO:+0200
TZNAME:CEST
DTSTART:20250330T010000
END:DAYLIGHT
BEGIN:STANDARD
TZOFFSETFROM:+0200
TZOFFSETTO:+0100
TZNAME:CET
DTSTART:20251026T010000
END:STANDARD
END:VTIMEZONE
BEGIN:VEVENT
DTSTART;VALUE=DATE:20240706
DTEND;VALUE=DATE:20240708
DTSTAMP:20260423T032203
CREATED:20231222T091547Z
LAST-MODIFIED:20231222T091547Z
UID:10001384-1720252800-1720339199@gemeinde-simplon.ch
SUMMARY:Ausflug - Jugendverein Simplon
DESCRIPTION:
URL:https://gemeinde-simplon.ch/anlass/ausflug-jugendverein-simplon/
END:VEVENT
BEGIN:VEVENT
DTSTART;VALUE=DATE:20240713
DTEND;VALUE=DATE:20240715
DTSTAMP:20260423T032203
CREATED:20231222T091857Z
LAST-MODIFIED:20231222T091857Z
UID:10001385-1720857600-1720943999@gemeinde-simplon.ch
SUMMARY:Valeria Triulzi - Ecomuseum
DESCRIPTION:
URL:https://gemeinde-simplon.ch/anlass/valeria-triulzi-ecomuseum/
LOCATION:Alter Gasthof
END:VEVENT
BEGIN:VEVENT
DTSTART;VALUE=DATE:20240713
DTEND;VALUE=DATE:20240715
DTSTAMP:20260423T032203
CREATED:20231222T092031Z
LAST-MODIFIED:20231222T092031Z
UID:10001386-1720857600-1720943999@gemeinde-simplon.ch
SUMMARY:Wanderweg - Musikgesellschaft Bleiken
DESCRIPTION:
URL:https://gemeinde-simplon.ch/anlass/wanderweg-musikgesellschaft-bleiken-3/
END:VEVENT
BEGIN:VEVENT
DTSTART;TZID=Europe/Zurich:20240714T100000
DTEND;TZID=Europe/Zurich:20240714T110000
DTSTAMP:20260423T032203
CREATED:20231222T092146Z
LAST-MODIFIED:20231222T092146Z
UID:10001387-1720951200-1720954800@gemeinde-simplon.ch
SUMMARY:Amt Kapelle Egga - Kirchenchor
DESCRIPTION:
URL:https://gemeinde-simplon.ch/anlass/amt-kapelle-egga-kirchenchor/
END:VEVENT
BEGIN:VEVENT
DTSTART;VALUE=DATE:20240720
DTEND;VALUE=DATE:20240722
DTSTAMP:20260423T032203
CREATED:20231222T092340Z
LAST-MODIFIED:20231222T092340Z
UID:10001149-1721462400-1721548799@gemeinde-simplon.ch
SUMMARY:Familientag - Fussballclub Simplon
DESCRIPTION:
URL:https://gemeinde-simplon.ch/anlass/familientag-fussballclub-simplon-2/
END:VEVENT
BEGIN:VEVENT
DTSTART;TZID=Europe/Zurich:20240725T130000
DTEND;TZID=Europe/Zurich:20240725T143000
DTSTAMP:20260423T032203
CREATED:20231222T092454Z
LAST-MODIFIED:20231222T092454Z
UID:10001151-1721912400-1721917800@gemeinde-simplon.ch
SUMMARY:Kartonsammlung
DESCRIPTION:
URL:https://gemeinde-simplon.ch/anlass/kartonsammlung-20/
LOCATION:Kaplaneigebäude
END:VEVENT
BEGIN:VEVENT
DTSTART;TZID=Europe/Zurich:20240726T193000
DTEND;TZID=Europe/Zurich:20240726T213000
DTSTAMP:20260423T032203
CREATED:20231222T092659Z
LAST-MODIFIED:20231222T092659Z
UID:10001153-1722022200-1722029400@gemeinde-simplon.ch
SUMMARY:Probe - Musikgesellschaft Bleiken
DESCRIPTION:
URL:https://gemeinde-simplon.ch/anlass/probe-musikgesellschaft-bleiken-3/
LOCATION:Musiklokal
END:VEVENT
BEGIN:VEVENT
DTSTART;VALUE=DATE:20240727
DTEND;VALUE=DATE:20240729
DTSTAMP:20260423T032203
CREATED:20231222T092825Z
LAST-MODIFIED:20231222T092825Z
UID:10001155-1722067200-1722153599@gemeinde-simplon.ch
SUMMARY:Renato Jordan - Ecomuseum
DESCRIPTION:
URL:https://gemeinde-simplon.ch/anlass/renato-jordan-ecomuseum/
LOCATION:Alter Gasthof
END:VEVENT
BEGIN:VEVENT
DTSTART;VALUE=DATE:20240728
DTEND;VALUE=DATE:20240730
DTSTAMP:20260423T032203
CREATED:20240717T131715Z
LAST-MODIFIED:20240717T131715Z
UID:10001453-1722153600-1722239999@gemeinde-simplon.ch
SUMMARY:Alpu-Träff - Musik mit Echo vam Riederwald
DESCRIPTION:﻿
URL:https://gemeinde-simplon.ch/anlass/alpu-traeff-musik-mit-echo-vam-riederwald/
END:VEVENT
BEGIN:VEVENT
DTSTART;TZID=Europe/Zurich:20240731T190000
DTEND;TZID=Europe/Zurich:20240731T233000
DTSTAMP:20260423T032203
CREATED:20231222T092957Z
LAST-MODIFIED:20240723T090056Z
UID:10001156-1722452400-1722468600@gemeinde-simplon.ch
SUMMARY:Sommernachtsfest - Mountain Café Simplon
DESCRIPTION:﻿
URL:https://gemeinde-simplon.ch/anlass/sommernachtsfest-mountain-cafe-simplon-2/
END:VEVENT
END:VCALENDAR