BEGIN:VCALENDAR
VERSION:2.0
PRODID:-//Gemeinde Simplon Dorf - ECPv6.15.20//NONSGML v1.0//EN
CALSCALE:GREGORIAN
METHOD:PUBLISH
X-ORIGINAL-URL:https://gemeinde-simplon.ch
X-WR-CALDESC:Veranstaltungen für Gemeinde Simplon Dorf
REFRESH-INTERVAL;VALUE=DURATION:PT1H
X-Robots-Tag:noindex
X-PUBLISHED-TTL:PT1H
BEGIN:VTIMEZONE
TZID:Europe/Zurich
BEGIN:DAYLIGHT
TZOFFSETFROM:+0100
TZOFFSETTO:+0200
TZNAME:CEST
DTSTART:20230326T010000
END:DAYLIGHT
BEGIN:STANDARD
TZOFFSETFROM:+0200
TZOFFSETTO:+0100
TZNAME:CET
DTSTART:20231029T010000
END:STANDARD
BEGIN:DAYLIGHT
TZOFFSETFROM:+0100
TZOFFSETTO:+0200
TZNAME:CEST
DTSTART:20240331T010000
END:DAYLIGHT
BEGIN:STANDARD
TZOFFSETFROM:+0200
TZOFFSETTO:+0100
TZNAME:CET
DTSTART:20241027T010000
END:STANDARD
BEGIN:DAYLIGHT
TZOFFSETFROM:+0100
TZOFFSETTO:+0200
TZNAME:CEST
DTSTART:20250330T010000
END:DAYLIGHT
BEGIN:STANDARD
TZOFFSETFROM:+0200
TZOFFSETTO:+0100
TZNAME:CET
DTSTART:20251026T010000
END:STANDARD
END:VTIMEZONE
BEGIN:VEVENT
DTSTART;VALUE=DATE:20240901
DTEND;VALUE=DATE:20240903
DTSTAMP:20260423T002017
CREATED:20231222T100156Z
LAST-MODIFIED:20231222T100156Z
UID:10001398-1725177600-1725263999@gemeinde-simplon.ch
SUMMARY:Berglauf - Skiclub Fletschhorn
DESCRIPTION:
URL:https://gemeinde-simplon.ch/anlass/berglauf-skiclub-fletschhorn-3/
END:VEVENT
BEGIN:VEVENT
DTSTART;TZID=Europe/Zurich:20240903T200000
DTEND;TZID=Europe/Zurich:20240903T220000
DTSTAMP:20260423T002017
CREATED:20231222T100307Z
LAST-MODIFIED:20231222T100307Z
UID:10001399-1725393600-1725400800@gemeinde-simplon.ch
SUMMARY:Monatsübung - Samariterverein
DESCRIPTION:
URL:https://gemeinde-simplon.ch/anlass/monatsuebung-samariterverein-21/
LOCATION:Schulhaus
END:VEVENT
BEGIN:VEVENT
DTSTART;TZID=Europe/Zurich:20240905T190000
DTEND;TZID=Europe/Zurich:20240905T213000
DTSTAMP:20260423T002017
CREATED:20231222T100442Z
LAST-MODIFIED:20231222T100442Z
UID:10001400-1725562800-1725571800@gemeinde-simplon.ch
SUMMARY:Zug Simplon - Feuerwehr Simplon-Süd
DESCRIPTION:
URL:https://gemeinde-simplon.ch/anlass/zug-simplon-feuerwehr-simplon-sued-3/
LOCATION:Feuerwehrlokal Blatt
END:VEVENT
BEGIN:VEVENT
DTSTART;TZID=Europe/Zurich:20240906T170000
DTEND;TZID=Europe/Zurich:20240906T180000
DTSTAMP:20260423T002017
CREATED:20231222T100609Z
LAST-MODIFIED:20231222T100609Z
UID:10001401-1725642000-1725645600@gemeinde-simplon.ch
SUMMARY:Training - Schiessverein Simplon
DESCRIPTION:
URL:https://gemeinde-simplon.ch/anlass/training-schiessverein-simplon-9/
LOCATION:Schiessstand Heji
END:VEVENT
BEGIN:VEVENT
DTSTART;VALUE=DATE:20240907
DTEND;VALUE=DATE:20240909
DTSTAMP:20260423T002017
CREATED:20231222T101819Z
LAST-MODIFIED:20231222T101819Z
UID:10001403-1725696000-1725782399@gemeinde-simplon.ch
SUMMARY:Elisabeth Fux - Ecomuseum
DESCRIPTION:
URL:https://gemeinde-simplon.ch/anlass/elisabeth-fux-ecomuseum/
LOCATION:Alter Gasthof
END:VEVENT
BEGIN:VEVENT
DTSTART;TZID=Europe/Zurich:20240907T160000
DTEND;TZID=Europe/Zurich:20240907T190000
DTSTAMP:20260423T002017
CREATED:20231222T100739Z
LAST-MODIFIED:20231222T100739Z
UID:10001402-1725724800-1725735600@gemeinde-simplon.ch
SUMMARY:Jahresmeisterschaft - Kleinkaliberverein Simplon
DESCRIPTION:
URL:https://gemeinde-simplon.ch/anlass/jahresmeisterschaft-kleinkaliberverein-simplon/
LOCATION:Klelinkaliberstand
END:VEVENT
BEGIN:VEVENT
DTSTART;TZID=Europe/Zurich:20240907T160000
DTEND;TZID=Europe/Zurich:20240907T233000
DTSTAMP:20260423T002017
CREATED:20231222T101939Z
LAST-MODIFIED:20231222T101939Z
UID:10001404-1725724800-1725751800@gemeinde-simplon.ch
SUMMARY:Starparty - Sternwarte Simplon
DESCRIPTION:
URL:https://gemeinde-simplon.ch/anlass/starparty-sternwarte-simplon-2/
LOCATION:Sternwarte Simplon-Pass
END:VEVENT
BEGIN:VEVENT
DTSTART;VALUE=DATE:20240908
DTEND;VALUE=DATE:20240910
DTSTAMP:20260423T002017
CREATED:20231222T102107Z
LAST-MODIFIED:20231222T102107Z
UID:10001405-1725782400-1725868799@gemeinde-simplon.ch
SUMMARY:Patronatsfest Bleiken-Kapelle - Musikgesellschaft Bleiken
DESCRIPTION:
URL:https://gemeinde-simplon.ch/anlass/patronatsfest-bleiken-kapelle-musikgesellschaft-bleiken/
END:VEVENT
BEGIN:VEVENT
DTSTART;TZID=Europe/Zurich:20240914T080000
DTEND;TZID=Europe/Zurich:20240915T230000
DTSTAMP:20260423T002017
CREATED:20231222T102221Z
LAST-MODIFIED:20240109T164801Z
UID:10001406-1726300800-1726441200@gemeinde-simplon.ch
SUMMARY:Freundschaftsschiessen Baltschieder - Schiessverein Simplon
DESCRIPTION:﻿
URL:https://gemeinde-simplon.ch/anlass/freundschaftsschiessen-baltschieder-schiessverein-simplon/
END:VEVENT
BEGIN:VEVENT
DTSTART;VALUE=DATE:20240915
DTEND;VALUE=DATE:20240917
DTSTAMP:20260423T002017
CREATED:20231222T102330Z
LAST-MODIFIED:20231222T102330Z
UID:10001407-1726387200-1726473599@gemeinde-simplon.ch
SUMMARY:Mountainbike - Skiclub Fletschhorn
DESCRIPTION:
URL:https://gemeinde-simplon.ch/anlass/mountainbike-skiclub-fletschhorn-3/
END:VEVENT
BEGIN:VEVENT
DTSTART;TZID=Europe/Zurich:20240919T190000
DTEND;TZID=Europe/Zurich:20240919T210000
DTSTAMP:20260423T002017
CREATED:20231222T102446Z
LAST-MODIFIED:20231222T102446Z
UID:10001408-1726772400-1726779600@gemeinde-simplon.ch
SUMMARY:Kaderübung - Feuerwehr Simplon-Süd
DESCRIPTION:
URL:https://gemeinde-simplon.ch/anlass/kaderuebung-feuerwehr-simplon-sued-3/
LOCATION:Feuerwehrlokal Blatt
END:VEVENT
BEGIN:VEVENT
DTSTART;VALUE=DATE:20240921
DTEND;VALUE=DATE:20240923
DTSTAMP:20260423T002017
CREATED:20231222T102605Z
LAST-MODIFIED:20231222T102605Z
UID:10001409-1726905600-1726991999@gemeinde-simplon.ch
SUMMARY:Herbstausflug - Musikgesellschaft
DESCRIPTION:
URL:https://gemeinde-simplon.ch/anlass/herbstausflug-musikgesellschaft/
END:VEVENT
BEGIN:VEVENT
DTSTART;TZID=Europe/Zurich:20240922T080000
DTEND;TZID=Europe/Zurich:20240922T160000
DTSTAMP:20260423T002017
CREATED:20231222T102729Z
LAST-MODIFIED:20231222T102729Z
UID:10001410-1726992000-1727020800@gemeinde-simplon.ch
SUMMARY:Endschiessen mit Mittagessen - Schiessverein Simplon
DESCRIPTION:
URL:https://gemeinde-simplon.ch/anlass/endschiessen-mit-mittagessen-schiessverein-simplon-3/
LOCATION:Schiessstand Heji
END:VEVENT
BEGIN:VEVENT
DTSTART;TZID=Europe/Zurich:20240926T130000
DTEND;TZID=Europe/Zurich:20240926T143000
DTSTAMP:20260423T002017
CREATED:20231222T102834Z
LAST-MODIFIED:20231222T102834Z
UID:10001412-1727355600-1727361000@gemeinde-simplon.ch
SUMMARY:Kartonsammlung
DESCRIPTION:
URL:https://gemeinde-simplon.ch/anlass/kartonsammlung-22/
LOCATION:Kaplaneigebäude
END:VEVENT
BEGIN:VEVENT
DTSTART;TZID=Europe/Zurich:20240927T193000
DTEND;TZID=Europe/Zurich:20240927T213000
DTSTAMP:20260423T002017
CREATED:20231222T103026Z
LAST-MODIFIED:20231222T103026Z
UID:10001411-1727465400-1727472600@gemeinde-simplon.ch
SUMMARY:Probebeginn - Musikgesellschaft Bleiken
DESCRIPTION:
URL:https://gemeinde-simplon.ch/anlass/probebeginn-musikgesellschaft-bleiken-2/
LOCATION:Musiklokal
END:VEVENT
BEGIN:VEVENT
DTSTART;VALUE=DATE:20240928
DTEND;VALUE=DATE:20240930
DTSTAMP:20260423T002017
CREATED:20231222T103151Z
LAST-MODIFIED:20231222T103151Z
UID:10001413-1727510400-1727596799@gemeinde-simplon.ch
SUMMARY:Generalversammlung in Simplon Dorf - Kultur Simplon Süd
DESCRIPTION:
URL:https://gemeinde-simplon.ch/anlass/generalversammlung-in-simplon-dorf-kultur-simplon-sued/
END:VEVENT
END:VCALENDAR