BEGIN:VCALENDAR
VERSION:2.0
PRODID:-//Gemeinde Simplon Dorf - ECPv6.15.20//NONSGML v1.0//EN
CALSCALE:GREGORIAN
METHOD:PUBLISH
X-ORIGINAL-URL:https://gemeinde-simplon.ch
X-WR-CALDESC:Veranstaltungen für Gemeinde Simplon Dorf
REFRESH-INTERVAL;VALUE=DURATION:PT1H
X-Robots-Tag:noindex
X-PUBLISHED-TTL:PT1H
BEGIN:VTIMEZONE
TZID:Europe/Zurich
BEGIN:DAYLIGHT
TZOFFSETFROM:+0100
TZOFFSETTO:+0200
TZNAME:CEST
DTSTART:20240331T010000
END:DAYLIGHT
BEGIN:STANDARD
TZOFFSETFROM:+0200
TZOFFSETTO:+0100
TZNAME:CET
DTSTART:20241027T010000
END:STANDARD
BEGIN:DAYLIGHT
TZOFFSETFROM:+0100
TZOFFSETTO:+0200
TZNAME:CEST
DTSTART:20250330T010000
END:DAYLIGHT
BEGIN:STANDARD
TZOFFSETFROM:+0200
TZOFFSETTO:+0100
TZNAME:CET
DTSTART:20251026T010000
END:STANDARD
BEGIN:DAYLIGHT
TZOFFSETFROM:+0100
TZOFFSETTO:+0200
TZNAME:CEST
DTSTART:20260329T010000
END:DAYLIGHT
BEGIN:STANDARD
TZOFFSETFROM:+0200
TZOFFSETTO:+0100
TZNAME:CET
DTSTART:20261025T010000
END:STANDARD
BEGIN:DAYLIGHT
TZOFFSETFROM:+0100
TZOFFSETTO:+0200
TZNAME:CEST
DTSTART:20270328T010000
END:DAYLIGHT
BEGIN:STANDARD
TZOFFSETFROM:+0200
TZOFFSETTO:+0100
TZNAME:CET
DTSTART:20271031T010000
END:STANDARD
END:VTIMEZONE
BEGIN:VEVENT
DTSTART;TZID=Europe/Zurich:20251206T100000
DTEND;TZID=Europe/Zurich:20251206T110000
DTSTAMP:20260421T230028
CREATED:20241216T124128Z
LAST-MODIFIED:20241216T124128Z
UID:10001676-1765015200-1765018800@gemeinde-simplon.ch
SUMMARY:St. Nikolaus - Kirchenchor
DESCRIPTION:
URL:https://gemeinde-simplon.ch/anlass/st-nikolaus-kirchenchor-4/
LOCATION:Kirche
END:VEVENT
BEGIN:VEVENT
DTSTART;TZID=Europe/Zurich:20251206T133000
DTEND;TZID=Europe/Zurich:20251206T170000
DTSTAMP:20260421T230028
CREATED:20241216T124340Z
LAST-MODIFIED:20241216T153336Z
UID:10001677-1765027800-1765040400@gemeinde-simplon.ch
SUMMARY:Jass- und Spielnachmittag Nikolausbesuch - Frauengemeinschaft / Jugendverein
DESCRIPTION:
URL:https://gemeinde-simplon.ch/anlass/jass-und-spielnachmittag-nikolausbesuch-frauengemeinschaft-jugendverein/
LOCATION:Schulhaus
END:VEVENT
BEGIN:VEVENT
DTSTART;VALUE=DATE:20251207
DTEND;VALUE=DATE:20251209
DTSTAMP:20260421T230028
CREATED:20241216T124913Z
LAST-MODIFIED:20241216T124913Z
UID:10001678-1765094400-1765180799@gemeinde-simplon.ch
SUMMARY:2. Advent
DESCRIPTION:﻿
URL:https://gemeinde-simplon.ch/anlass/2-advent-5/
END:VEVENT
BEGIN:VEVENT
DTSTART;TZID=Europe/Zurich:20251207T173000
DTEND;TZID=Europe/Zurich:20251207T200000
DTSTAMP:20260421T230028
CREATED:20241216T125022Z
LAST-MODIFIED:20241216T125022Z
UID:10001679-1765128600-1765137600@gemeinde-simplon.ch
SUMMARY:Adventsfenster
DESCRIPTION:﻿
URL:https://gemeinde-simplon.ch/anlass/adventsfenster-6/
END:VEVENT
BEGIN:VEVENT
DTSTART;TZID=Europe/Zurich:20251208T103000
DTEND;TZID=Europe/Zurich:20251208T113000
DTSTAMP:20260421T230028
CREATED:20241216T125653Z
LAST-MODIFIED:20241216T125653Z
UID:10001680-1765189800-1765193400@gemeinde-simplon.ch
SUMMARY:Maria Empfängnis - Kirchenchor
DESCRIPTION:
URL:https://gemeinde-simplon.ch/anlass/maria-empfaengnis-kirchenchor-4/
LOCATION:Kirche
END:VEVENT
BEGIN:VEVENT
DTSTART;TZID=Europe/Zurich:20251208T103000
DTEND;TZID=Europe/Zurich:20251208T113000
DTSTAMP:20260421T230028
CREATED:20241216T125819Z
LAST-MODIFIED:20241216T125819Z
UID:10001681-1765189800-1765193400@gemeinde-simplon.ch
SUMMARY:Marienfeier - Apero Frauengemeinschaft
DESCRIPTION:﻿
URL:https://gemeinde-simplon.ch/anlass/marienfeier-apero-frauengemeinschaft/
END:VEVENT
BEGIN:VEVENT
DTSTART;TZID=Europe/Zurich:20251209T200000
DTEND;TZID=Europe/Zurich:20251209T220000
DTSTAMP:20260421T230028
CREATED:20241216T125953Z
LAST-MODIFIED:20241216T125953Z
UID:10001682-1765310400-1765317600@gemeinde-simplon.ch
SUMMARY:Monatsübung - Samariterverein
DESCRIPTION:
URL:https://gemeinde-simplon.ch/anlass/monatsuebung-samariterverein-33/
LOCATION:Schulhaus
END:VEVENT
BEGIN:VEVENT
DTSTART;TZID=Europe/Zurich:20251210T133000
DTEND;TZID=Europe/Zurich:20251210T170000
DTSTAMP:20260421T230028
CREATED:20241216T130304Z
LAST-MODIFIED:20241216T153446Z
UID:10001683-1765373400-1765386000@gemeinde-simplon.ch
SUMMARY:Jass- und Spielnachmittag
DESCRIPTION:
URL:https://gemeinde-simplon.ch/anlass/jass-und-spielnachmittag-14/
LOCATION:Schulhaus
END:VEVENT
BEGIN:VEVENT
DTSTART;TZID=Europe/Zurich:20251212T133000
DTEND;TZID=Europe/Zurich:20251212T170000
DTSTAMP:20260421T230028
CREATED:20241216T130448Z
LAST-MODIFIED:20241216T130448Z
UID:10001684-1765546200-1765558800@gemeinde-simplon.ch
SUMMARY:Seniorenweihnacht
DESCRIPTION:
URL:https://gemeinde-simplon.ch/anlass/seniorenweihnacht-4/
LOCATION:Schulhaus
END:VEVENT
BEGIN:VEVENT
DTSTART;TZID=Europe/Zurich:20251212T190000
DTEND;TZID=Europe/Zurich:20251212T233000
DTSTAMP:20260421T230028
CREATED:20241216T130601Z
LAST-MODIFIED:20241216T130601Z
UID:10001685-1765566000-1765582200@gemeinde-simplon.ch
SUMMARY:öffentlicher Anlass Sternwarte
DESCRIPTION:﻿
URL:https://gemeinde-simplon.ch/anlass/oeffentlicher-anlass-sternwarte-6/
LOCATION:Sternwarte Simplon-Pass
END:VEVENT
BEGIN:VEVENT
DTSTART;VALUE=DATE:20251213
DTEND;VALUE=DATE:20251215
DTSTAMP:20260421T230028
CREATED:20241216T130747Z
LAST-MODIFIED:20241216T153603Z
UID:10001686-1765612800-1765699199@gemeinde-simplon.ch
SUMMARY:Probetag Hospiz - Musikgesellschaft Bleiken
DESCRIPTION:
URL:https://gemeinde-simplon.ch/anlass/probehalbtag-hospiz-musikgesellschaft-bleiken/
END:VEVENT
BEGIN:VEVENT
DTSTART;TZID=Europe/Zurich:20251213T190000
DTEND;TZID=Europe/Zurich:20251213T233000
DTSTAMP:20260421T230028
CREATED:20241216T130908Z
LAST-MODIFIED:20241216T130908Z
UID:10001687-1765652400-1765668600@gemeinde-simplon.ch
SUMMARY:Gemeindenachtessen
DESCRIPTION:
URL:https://gemeinde-simplon.ch/anlass/gemeindenachtessen/
END:VEVENT
BEGIN:VEVENT
DTSTART;VALUE=DATE:20251214
DTEND;VALUE=DATE:20251216
DTSTAMP:20260421T230028
CREATED:20241216T131014Z
LAST-MODIFIED:20241216T131014Z
UID:10001688-1765699200-1765785599@gemeinde-simplon.ch
SUMMARY:3. Advent
DESCRIPTION:
URL:https://gemeinde-simplon.ch/anlass/3-advent-5/
END:VEVENT
BEGIN:VEVENT
DTSTART;TZID=Europe/Zurich:20251214T173000
DTEND;TZID=Europe/Zurich:20251214T183000
DTSTAMP:20260421T230028
CREATED:20241216T131447Z
LAST-MODIFIED:20241216T153824Z
UID:10001690-1765733400-1765737000@gemeinde-simplon.ch
SUMMARY:Friedenslicht - Musikgesellschaft Bleiken
DESCRIPTION:
URL:https://gemeinde-simplon.ch/anlass/friedenslicht-musikgesellschaft-bleiken-2/
LOCATION:Kirche
END:VEVENT
BEGIN:VEVENT
DTSTART;TZID=Europe/Zurich:20251214T173000
DTEND;TZID=Europe/Zurich:20251214T200000
DTSTAMP:20260421T230028
CREATED:20241216T131208Z
LAST-MODIFIED:20241216T131208Z
UID:10001689-1765733400-1765742400@gemeinde-simplon.ch
SUMMARY:Adventsfenster
DESCRIPTION:
URL:https://gemeinde-simplon.ch/anlass/adventsfenster-7/
END:VEVENT
BEGIN:VEVENT
DTSTART;VALUE=DATE:20251215
DTEND;VALUE=DATE:20251217
DTSTAMP:20260421T230028
CREATED:20241216T131722Z
LAST-MODIFIED:20241216T131722Z
UID:10001691-1765785600-1765871999@gemeinde-simplon.ch
SUMMARY:Weihnachtsfeier - Damenturnverein
DESCRIPTION:﻿
URL:https://gemeinde-simplon.ch/anlass/weihnachtsfeier-damenturnverein-4/
END:VEVENT
BEGIN:VEVENT
DTSTART;TZID=Europe/Zurich:20251218T070000
DTEND;TZID=Europe/Zurich:20251218T100000
DTSTAMP:20260421T230028
CREATED:20241216T132118Z
LAST-MODIFIED:20241216T132118Z
UID:10001692-1766041200-1766052000@gemeinde-simplon.ch
SUMMARY:Roratemesse - Frauengemeinschaft
DESCRIPTION:
URL:https://gemeinde-simplon.ch/anlass/roratemesse-frauengemeinschaft/
END:VEVENT
BEGIN:VEVENT
DTSTART;TZID=Europe/Zurich:20251218T130000
DTEND;TZID=Europe/Zurich:20251218T143000
DTSTAMP:20260421T230028
CREATED:20241216T132209Z
LAST-MODIFIED:20241216T132209Z
UID:10001693-1766062800-1766068200@gemeinde-simplon.ch
SUMMARY:Kartonsammlung
DESCRIPTION:
URL:https://gemeinde-simplon.ch/anlass/kartonsammlung-36/
LOCATION:Kaplaneigebäude
END:VEVENT
BEGIN:VEVENT
DTSTART;VALUE=DATE:20251221
DTEND;VALUE=DATE:20251223
DTSTAMP:20260421T230028
CREATED:20241216T132322Z
LAST-MODIFIED:20241216T132322Z
UID:10001694-1766304000-1766390399@gemeinde-simplon.ch
SUMMARY:4. Advent
DESCRIPTION:
URL:https://gemeinde-simplon.ch/anlass/4-advent-5/
END:VEVENT
BEGIN:VEVENT
DTSTART;TZID=Europe/Zurich:20251221T173000
DTEND;TZID=Europe/Zurich:20251221T200000
DTSTAMP:20260421T230028
CREATED:20241216T132506Z
LAST-MODIFIED:20241216T132506Z
UID:10001695-1766338200-1766347200@gemeinde-simplon.ch
SUMMARY:Adventsfenster
DESCRIPTION:
URL:https://gemeinde-simplon.ch/anlass/adventsfenster-8/
END:VEVENT
BEGIN:VEVENT
DTSTART;TZID=Europe/Zurich:20251224T170000
DTEND;TZID=Europe/Zurich:20251224T180000
DTSTAMP:20260421T230028
CREATED:20241216T132704Z
LAST-MODIFIED:20241216T132848Z
UID:10001696-1766595600-1766599200@gemeinde-simplon.ch
SUMMARY:Weihnachtsmesse
DESCRIPTION:
URL:https://gemeinde-simplon.ch/anlass/weihnachtsmesse/
LOCATION:Kirche
END:VEVENT
BEGIN:VEVENT
DTSTART;TZID=Europe/Zurich:20251225T100000
DTEND;TZID=Europe/Zurich:20251225T110000
DTSTAMP:20260421T230028
CREATED:20241216T132820Z
LAST-MODIFIED:20241216T132820Z
UID:10001697-1766656800-1766660400@gemeinde-simplon.ch
SUMMARY:Weihnachten - Kirchenchor
DESCRIPTION:
URL:https://gemeinde-simplon.ch/anlass/weihnachten-kirchenchor-4/
END:VEVENT
BEGIN:VEVENT
DTSTART;VALUE=DATE:20251231
DTEND;VALUE=DATE:20260102
DTSTAMP:20260421T230028
CREATED:20241216T133019Z
LAST-MODIFIED:20241216T133019Z
UID:10001698-1767168000-1767254399@gemeinde-simplon.ch
SUMMARY:Silvester
DESCRIPTION:
URL:https://gemeinde-simplon.ch/anlass/silvester-5/
END:VEVENT
BEGIN:VEVENT
DTSTART;TZID=Europe/Zurich:20251231T170000
DTEND;TZID=Europe/Zurich:20251231T190000
DTSTAMP:20260421T230028
CREATED:20241216T133129Z
LAST-MODIFIED:20241216T133129Z
UID:10001699-1767200400-1767207600@gemeinde-simplon.ch
SUMMARY:Fackellauf - Skiclub Fletschhorn
DESCRIPTION:﻿
URL:https://gemeinde-simplon.ch/anlass/fackellauf-skiclub-fletschhorn-3/
END:VEVENT
END:VCALENDAR