BEGIN:VCALENDAR
VERSION:2.0
PRODID:-//Gemeinde Simplon Dorf - ECPv6.15.20//NONSGML v1.0//EN
CALSCALE:GREGORIAN
METHOD:PUBLISH
X-ORIGINAL-URL:https://gemeinde-simplon.ch
X-WR-CALDESC:Veranstaltungen für Gemeinde Simplon Dorf
REFRESH-INTERVAL;VALUE=DURATION:PT1H
X-Robots-Tag:noindex
X-PUBLISHED-TTL:PT1H
BEGIN:VTIMEZONE
TZID:Europe/Zurich
BEGIN:DAYLIGHT
TZOFFSETFROM:+0100
TZOFFSETTO:+0200
TZNAME:CEST
DTSTART:20250330T010000
END:DAYLIGHT
BEGIN:STANDARD
TZOFFSETFROM:+0200
TZOFFSETTO:+0100
TZNAME:CET
DTSTART:20251026T010000
END:STANDARD
BEGIN:DAYLIGHT
TZOFFSETFROM:+0100
TZOFFSETTO:+0200
TZNAME:CEST
DTSTART:20260329T010000
END:DAYLIGHT
BEGIN:STANDARD
TZOFFSETFROM:+0200
TZOFFSETTO:+0100
TZNAME:CET
DTSTART:20261025T010000
END:STANDARD
BEGIN:DAYLIGHT
TZOFFSETFROM:+0100
TZOFFSETTO:+0200
TZNAME:CEST
DTSTART:20270328T010000
END:DAYLIGHT
BEGIN:STANDARD
TZOFFSETFROM:+0200
TZOFFSETTO:+0100
TZNAME:CET
DTSTART:20271031T010000
END:STANDARD
END:VTIMEZONE
BEGIN:VEVENT
DTSTART;VALUE=DATE:20260301
DTEND;VALUE=DATE:20260303
DTSTAMP:20260421T181835
CREATED:20251230T101710Z
LAST-MODIFIED:20251230T101710Z
UID:10001801-1772352000-1772438399@gemeinde-simplon.ch
SUMMARY:Langlauf - Skiclub Fletschhorn
DESCRIPTION:
URL:https://gemeinde-simplon.ch/anlass/langlauf-skiclub-fletschhorn-4/
END:VEVENT
BEGIN:VEVENT
DTSTART;VALUE=DATE:20260302
DTEND;VALUE=DATE:20260304
DTSTAMP:20260421T181835
CREATED:20251230T123340Z
LAST-MODIFIED:20251230T130913Z
UID:10001832-1772438400-1772524799@gemeinde-simplon.ch
SUMMARY:Kreuzweg - Pfarreirat
DESCRIPTION:
URL:https://gemeinde-simplon.ch/anlass/kreuzweg-pfarreirat/
END:VEVENT
BEGIN:VEVENT
DTSTART;VALUE=DATE:20260307
DTEND;VALUE=DATE:20260309
DTSTAMP:20260421T181835
CREATED:20251217T093925Z
LAST-MODIFIED:20251217T093925Z
UID:10001726-1772870400-1772956799@gemeinde-simplon.ch
SUMMARY:Mitgliederversammlung - Damenturnverein
DESCRIPTION:
URL:https://gemeinde-simplon.ch/anlass/mitgliederversammlung-damenturnverein-4/
END:VEVENT
BEGIN:VEVENT
DTSTART;VALUE=DATE:20260309
DTEND;VALUE=DATE:20260311
DTSTAMP:20260421T181835
CREATED:20251230T123514Z
LAST-MODIFIED:20251230T123514Z
UID:10001833-1773043200-1773129599@gemeinde-simplon.ch
SUMMARY:Kreuzweg - Jugendverein
DESCRIPTION:
URL:https://gemeinde-simplon.ch/anlass/kreuzweg-jugendverein/
END:VEVENT
BEGIN:VEVENT
DTSTART;TZID=Europe/Zurich:20260310T200000
DTEND;TZID=Europe/Zurich:20260310T220000
DTSTAMP:20260421T181835
CREATED:20251230T095346Z
LAST-MODIFIED:20251230T095346Z
UID:10001792-1773172800-1773180000@gemeinde-simplon.ch
SUMMARY:Monatsübung - Samariterverein
DESCRIPTION:
URL:https://gemeinde-simplon.ch/anlass/monatsuebung-samariterverein-34/2026-03-10/
LOCATION:Schulhaus
END:VEVENT
BEGIN:VEVENT
DTSTART;TZID=Europe/Zurich:20260311T133000
DTEND;TZID=Europe/Zurich:20260311T170000
DTSTAMP:20260421T181835
CREATED:20251217T082752Z
LAST-MODIFIED:20251217T082752Z
UID:10001708-1773235800-1773248400@gemeinde-simplon.ch
SUMMARY:Jass- und Spielnachmittag
DESCRIPTION:
URL:https://gemeinde-simplon.ch/anlass/jass-und-spielnachmittag-13/2026-03-11/
LOCATION:Schulhaus
END:VEVENT
BEGIN:VEVENT
DTSTART;VALUE=DATE:20260312
DTEND;VALUE=DATE:20260314
DTSTAMP:20260421T181835
CREATED:20251230T124709Z
LAST-MODIFIED:20251230T124709Z
UID:10001838-1773302400-1773388799@gemeinde-simplon.ch
SUMMARY:Generalversammlung - Sennereigenossenschaft
DESCRIPTION:
URL:https://gemeinde-simplon.ch/anlass/generalversammlung-sennereigenossenschaft-2/
END:VEVENT
BEGIN:VEVENT
DTSTART;TZID=Europe/Zurich:20260312T133000
DTEND;TZID=Europe/Zurich:20260312T170000
DTSTAMP:20260421T181835
CREATED:20251217T102438Z
LAST-MODIFIED:20251217T102438Z
UID:10001739-1773322200-1773334800@gemeinde-simplon.ch
SUMMARY:LiLäLo
DESCRIPTION:
URL:https://gemeinde-simplon.ch/anlass/lilaelo-18/2026-03-12/
END:VEVENT
BEGIN:VEVENT
DTSTART;VALUE=DATE:20260315
DTEND;VALUE=DATE:20260317
DTSTAMP:20260421T181835
CREATED:20251230T101834Z
LAST-MODIFIED:20251230T101834Z
UID:10001802-1773561600-1773647999@gemeinde-simplon.ch
SUMMARY:Riesenslalom - Skiclub Fletschhorn
DESCRIPTION:
URL:https://gemeinde-simplon.ch/anlass/riesenslalom-skiclub-fletschhorn-4/
END:VEVENT
BEGIN:VEVENT
DTSTART;VALUE=DATE:20260316
DTEND;VALUE=DATE:20260318
DTSTAMP:20260421T181835
CREATED:20251230T123808Z
LAST-MODIFIED:20251230T123808Z
UID:10001834-1773648000-1773734399@gemeinde-simplon.ch
SUMMARY:Kreuzweg - Männerverein
DESCRIPTION:
URL:https://gemeinde-simplon.ch/anlass/kreuzweg-maennerverein/
END:VEVENT
BEGIN:VEVENT
DTSTART;VALUE=DATE:20260317
DTEND;VALUE=DATE:20260319
DTSTAMP:20260421T181835
CREATED:20251217T094051Z
LAST-MODIFIED:20251217T094051Z
UID:10001727-1773734400-1773820799@gemeinde-simplon.ch
SUMMARY:Schneeschuhlaufen - Damenturnverein
DESCRIPTION:
URL:https://gemeinde-simplon.ch/anlass/schneeschuhlaufen-damenturnverein-4/
END:VEVENT
BEGIN:VEVENT
DTSTART;VALUE=DATE:20260319
DTEND;VALUE=DATE:20260321
DTSTAMP:20260421T181835
CREATED:20251226T181143Z
LAST-MODIFIED:20251226T181143Z
UID:10001789-1773907200-1773993599@gemeinde-simplon.ch
SUMMARY:Firmung Kirchenchor + Musikgesellschaft Bleiken
DESCRIPTION:
URL:https://gemeinde-simplon.ch/anlass/firmung-kirchenchor-musikgesellschaft-bleiken/
LOCATION:Kirche
END:VEVENT
BEGIN:VEVENT
DTSTART;VALUE=DATE:20260319
DTEND;VALUE=DATE:20260321
DTSTAMP:20260421T181835
CREATED:20251230T124916Z
LAST-MODIFIED:20251230T124916Z
UID:10001839-1773907200-1773993599@gemeinde-simplon.ch
SUMMARY:St. Josef
DESCRIPTION:
URL:https://gemeinde-simplon.ch/anlass/st-josef-3/
END:VEVENT
BEGIN:VEVENT
DTSTART;VALUE=DATE:20260320
DTEND;VALUE=DATE:20260322
DTSTAMP:20260421T181835
CREATED:20251230T125108Z
LAST-MODIFIED:20251230T125108Z
UID:10001840-1773993600-1774079999@gemeinde-simplon.ch
SUMMARY:Mitgliederabend - Raiffeisen
DESCRIPTION:
URL:https://gemeinde-simplon.ch/anlass/mitgliederabend-raiffeisen-2/
END:VEVENT
BEGIN:VEVENT
DTSTART;VALUE=DATE:20260321
DTEND;VALUE=DATE:20260323
DTSTAMP:20260421T181835
CREATED:20251230T125406Z
LAST-MODIFIED:20251230T125406Z
UID:10001841-1774080000-1774166399@gemeinde-simplon.ch
SUMMARY:Töggeliturnier - Jugendverein
DESCRIPTION:
URL:https://gemeinde-simplon.ch/anlass/toeggeliturnier-jugendverein-2/
LOCATION:Jugendlokal
END:VEVENT
BEGIN:VEVENT
DTSTART;VALUE=DATE:20260323
DTEND;VALUE=DATE:20260325
DTSTAMP:20260421T181835
CREATED:20251230T123934Z
LAST-MODIFIED:20251230T123934Z
UID:10001835-1774252800-1774339199@gemeinde-simplon.ch
SUMMARY:Kreuzweg - Pfarrer
DESCRIPTION:
URL:https://gemeinde-simplon.ch/anlass/kreuzweg-pfarrer/
END:VEVENT
BEGIN:VEVENT
DTSTART;TZID=Europe/Zurich:20260325T133000
DTEND;TZID=Europe/Zurich:20260325T170000
DTSTAMP:20260421T181835
CREATED:20251217T082752Z
LAST-MODIFIED:20251217T082752Z
UID:10001709-1774445400-1774458000@gemeinde-simplon.ch
SUMMARY:Jass- und Spielnachmittag
DESCRIPTION:
URL:https://gemeinde-simplon.ch/anlass/jass-und-spielnachmittag-13/2026-03-25/
LOCATION:Schulhaus
END:VEVENT
BEGIN:VEVENT
DTSTART;TZID=Europe/Zurich:20260326T100000
DTEND;TZID=Europe/Zurich:20260326T100000
DTSTAMP:20260421T181835
CREATED:20251230T111441Z
LAST-MODIFIED:20251230T111441Z
UID:10001813-1774519200-1774519200@gemeinde-simplon.ch
SUMMARY:Besuch in Naters - Frauengemeinschaft
DESCRIPTION:
URL:https://gemeinde-simplon.ch/anlass/besuch-in-naters-frauengemeinschaft/
END:VEVENT
BEGIN:VEVENT
DTSTART;TZID=Europe/Zurich:20260326T130000
DTEND;TZID=Europe/Zurich:20260326T143000
DTSTAMP:20260421T181835
CREATED:20251226T175153Z
LAST-MODIFIED:20251226T175153Z
UID:10001773-1774530000-1774535400@gemeinde-simplon.ch
SUMMARY:Kartonsammlung
DESCRIPTION:
URL:https://gemeinde-simplon.ch/anlass/kartonsammlung-38/2026-03-26/
LOCATION:Kaplaneigebäude
END:VEVENT
BEGIN:VEVENT
DTSTART;VALUE=DATE:20260328
DTEND;VALUE=DATE:20260330
DTSTAMP:20260421T181835
CREATED:20251230T125707Z
LAST-MODIFIED:20251230T125707Z
UID:10001842-1774684800-1774771199@gemeinde-simplon.ch
SUMMARY:Probehalbtag - Musikgesellschaft Bleiken
DESCRIPTION:
URL:https://gemeinde-simplon.ch/anlass/probehalbtag-musikgesellschaft-bleiken-10/
END:VEVENT
BEGIN:VEVENT
DTSTART;VALUE=DATE:20260329
DTEND;VALUE=DATE:20260331
DTSTAMP:20260421T181835
CREATED:20251230T125921Z
LAST-MODIFIED:20251230T170604Z
UID:10001844-1774771200-1774857599@gemeinde-simplon.ch
SUMMARY:Palmsonntag - Kirchenchor
DESCRIPTION:
URL:https://gemeinde-simplon.ch/anlass/palmsonntag-kirchenchor-5/
LOCATION:Kirche
END:VEVENT
BEGIN:VEVENT
DTSTART;VALUE=DATE:20260330
DTEND;VALUE=DATE:20260401
DTSTAMP:20260421T181835
CREATED:20251230T124040Z
LAST-MODIFIED:20251230T124040Z
UID:10001836-1774857600-1774943999@gemeinde-simplon.ch
SUMMARY:Kreuzweg - Schule
DESCRIPTION:
URL:https://gemeinde-simplon.ch/anlass/kreuzweg-schule/
END:VEVENT
END:VCALENDAR