BEGIN:VCALENDAR
VERSION:2.0
PRODID:-//Gemeinde Simplon Dorf - ECPv6.15.20//NONSGML v1.0//EN
CALSCALE:GREGORIAN
METHOD:PUBLISH
X-ORIGINAL-URL:https://gemeinde-simplon.ch
X-WR-CALDESC:Veranstaltungen für Gemeinde Simplon Dorf
REFRESH-INTERVAL;VALUE=DURATION:PT1H
X-Robots-Tag:noindex
X-PUBLISHED-TTL:PT1H
BEGIN:VTIMEZONE
TZID:Europe/Zurich
BEGIN:DAYLIGHT
TZOFFSETFROM:+0100
TZOFFSETTO:+0200
TZNAME:CEST
DTSTART:20250330T010000
END:DAYLIGHT
BEGIN:STANDARD
TZOFFSETFROM:+0200
TZOFFSETTO:+0100
TZNAME:CET
DTSTART:20251026T010000
END:STANDARD
BEGIN:DAYLIGHT
TZOFFSETFROM:+0100
TZOFFSETTO:+0200
TZNAME:CEST
DTSTART:20260329T010000
END:DAYLIGHT
BEGIN:STANDARD
TZOFFSETFROM:+0200
TZOFFSETTO:+0100
TZNAME:CET
DTSTART:20261025T010000
END:STANDARD
BEGIN:DAYLIGHT
TZOFFSETFROM:+0100
TZOFFSETTO:+0200
TZNAME:CEST
DTSTART:20270328T010000
END:DAYLIGHT
BEGIN:STANDARD
TZOFFSETFROM:+0200
TZOFFSETTO:+0100
TZNAME:CET
DTSTART:20271031T010000
END:STANDARD
END:VTIMEZONE
BEGIN:VEVENT
DTSTART;VALUE=DATE:20260711
DTEND;VALUE=DATE:20260713
DTSTAMP:20260421T234627
CREATED:20251230T154347Z
LAST-MODIFIED:20251230T154347Z
UID:10001918-1783756800-1783843199@gemeinde-simplon.ch
SUMMARY:Wanderweg - Musikgesellschaft Bleiken
DESCRIPTION:
URL:https://gemeinde-simplon.ch/anlass/wanderweg-musikgesellschaft-bleiken-5/
END:VEVENT
BEGIN:VEVENT
DTSTART;VALUE=DATE:20260718
DTEND;VALUE=DATE:20260720
DTSTAMP:20260421T234627
CREATED:20251230T154255Z
LAST-MODIFIED:20251230T154255Z
UID:10001917-1784361600-1784447999@gemeinde-simplon.ch
SUMMARY:Familientag - Fussballclub
DESCRIPTION:
URL:https://gemeinde-simplon.ch/anlass/familientag-fussballclub-2/
END:VEVENT
BEGIN:VEVENT
DTSTART;VALUE=DATE:20260720
DTEND;VALUE=DATE:20260726
DTSTAMP:20260421T234627
CREATED:20251226T175852Z
LAST-MODIFIED:20251226T175852Z
UID:10001786-1784534400-1784966399@gemeinde-simplon.ch
SUMMARY:Grundputz Schule
DESCRIPTION:
URL:https://gemeinde-simplon.ch/anlass/grundputz-schule/
LOCATION:Schulhaus
END:VEVENT
BEGIN:VEVENT
DTSTART;TZID=Europe/Zurich:20260730T130000
DTEND;TZID=Europe/Zurich:20260730T143000
DTSTAMP:20260421T234627
CREATED:20251226T175153Z
LAST-MODIFIED:20251226T175153Z
UID:10001777-1785416400-1785421800@gemeinde-simplon.ch
SUMMARY:Kartonsammlung
DESCRIPTION:
URL:https://gemeinde-simplon.ch/anlass/kartonsammlung-38/2026-07-30/
LOCATION:Kaplaneigebäude
END:VEVENT
BEGIN:VEVENT
DTSTART;VALUE=DATE:20260731
DTEND;VALUE=DATE:20260802
DTSTAMP:20260421T234627
CREATED:20251217T094835Z
LAST-MODIFIED:20251217T094835Z
UID:10001731-1785484800-1785571199@gemeinde-simplon.ch
SUMMARY:Sommernachtsfest Mountain Café Simplon
DESCRIPTION:
URL:https://gemeinde-simplon.ch/anlass/sommernachtsfest-mountain-cafe-simplon-4/
LOCATION:Dorfplatz
END:VEVENT
END:VCALENDAR