BEGIN:VCALENDAR
VERSION:2.0
PRODID:-//Gemeinde Simplon Dorf - ECPv6.15.20//NONSGML v1.0//EN
CALSCALE:GREGORIAN
METHOD:PUBLISH
X-WR-CALNAME:Gemeinde Simplon Dorf
X-ORIGINAL-URL:https://gemeinde-simplon.ch
X-WR-CALDESC:Veranstaltungen für Gemeinde Simplon Dorf
REFRESH-INTERVAL;VALUE=DURATION:PT1H
X-Robots-Tag:noindex
X-PUBLISHED-TTL:PT1H
BEGIN:VTIMEZONE
TZID:Europe/Zurich
BEGIN:DAYLIGHT
TZOFFSETFROM:+0100
TZOFFSETTO:+0200
TZNAME:CEST
DTSTART:20250330T010000
END:DAYLIGHT
BEGIN:STANDARD
TZOFFSETFROM:+0200
TZOFFSETTO:+0100
TZNAME:CET
DTSTART:20251026T010000
END:STANDARD
BEGIN:DAYLIGHT
TZOFFSETFROM:+0100
TZOFFSETTO:+0200
TZNAME:CEST
DTSTART:20260329T010000
END:DAYLIGHT
BEGIN:STANDARD
TZOFFSETFROM:+0200
TZOFFSETTO:+0100
TZNAME:CET
DTSTART:20261025T010000
END:STANDARD
BEGIN:DAYLIGHT
TZOFFSETFROM:+0100
TZOFFSETTO:+0200
TZNAME:CEST
DTSTART:20270328T010000
END:DAYLIGHT
BEGIN:STANDARD
TZOFFSETFROM:+0200
TZOFFSETTO:+0100
TZNAME:CET
DTSTART:20271031T010000
END:STANDARD
END:VTIMEZONE
BEGIN:VEVENT
DTSTART;VALUE=DATE:20260801
DTEND;VALUE=DATE:20260803
DTSTAMP:20260422T020855
CREATED:20251230T114438Z
LAST-MODIFIED:20251230T114438Z
UID:10001820-1785571200-1785657599@gemeinde-simplon.ch
SUMMARY:Bundesfeier - Musikgesellschaft Bleiken / Kultur Simplon Süd
DESCRIPTION:
URL:https://gemeinde-simplon.ch/anlass/bundesfeier-musikgesellschaft-bleiken-kultur-simplon-sued/
LOCATION:Dorfplatz
END:VEVENT
BEGIN:VEVENT
DTSTART;TZID=Europe/Zurich:20260807T210000
DTEND;TZID=Europe/Zurich:20260808T030000
DTSTAMP:20260422T020855
CREATED:20251230T143400Z
LAST-MODIFIED:20251230T143400Z
UID:10001887-1786136400-1786158000@gemeinde-simplon.ch
SUMMARY:Nachtschiessen - Kleinkaliberverein
DESCRIPTION:
URL:https://gemeinde-simplon.ch/anlass/nachtschiessen-kleinkaliberverein-5/2026-08-07/
LOCATION:Schiessstand Stalden
END:VEVENT
BEGIN:VEVENT
DTSTART;VALUE=DATE:20260808
DTEND;VALUE=DATE:20260811
DTSTAMP:20260422T020855
CREATED:20251230T154140Z
LAST-MODIFIED:20251230T154140Z
UID:10001916-1786176000-1786348799@gemeinde-simplon.ch
SUMMARY:Gondo Marathon
DESCRIPTION:
URL:https://gemeinde-simplon.ch/anlass/gondo-marathon/
END:VEVENT
BEGIN:VEVENT
DTSTART;TZID=Europe/Zurich:20260808T210000
DTEND;TZID=Europe/Zurich:20260808T210000
DTSTAMP:20260422T020855
CREATED:20251230T143400Z
LAST-MODIFIED:20251230T143400Z
UID:10001888-1786222800-1786222800@gemeinde-simplon.ch
SUMMARY:Nachtschiessen - Kleinkaliberverein
DESCRIPTION:
URL:https://gemeinde-simplon.ch/anlass/nachtschiessen-kleinkaliberverein-5/2026-08-08/
LOCATION:Schiessstand Stalden
END:VEVENT
BEGIN:VEVENT
DTSTART;VALUE=DATE:20260814
DTEND;VALUE=DATE:20260816
DTSTAMP:20260422T020855
CREATED:20251230T153950Z
LAST-MODIFIED:20251230T153950Z
UID:10001915-1786694400-1786780799@gemeinde-simplon.ch
SUMMARY:Jubiläumsparty 20 Jahre - Waterslide
DESCRIPTION:
URL:https://gemeinde-simplon.ch/anlass/jubilaeumsparty-20-jahre-waterslide/
END:VEVENT
BEGIN:VEVENT
DTSTART;VALUE=DATE:20260815
DTEND;VALUE=DATE:20260817
DTSTAMP:20260422T020855
CREATED:20251230T153807Z
LAST-MODIFIED:20251230T153807Z
UID:10001913-1786780800-1786867199@gemeinde-simplon.ch
SUMMARY:Maria Himmelfahrt - Kirchenchor
DESCRIPTION:
URL:https://gemeinde-simplon.ch/anlass/maria-himmelfahrt-kirchenchor-4/
LOCATION:Kirche
END:VEVENT
BEGIN:VEVENT
DTSTART;VALUE=DATE:20260815
DTEND;VALUE=DATE:20260817
DTSTAMP:20260422T020855
CREATED:20251230T153849Z
LAST-MODIFIED:20251230T153849Z
UID:10001914-1786780800-1786867199@gemeinde-simplon.ch
SUMMARY:Waterslide
DESCRIPTION:
URL:https://gemeinde-simplon.ch/anlass/waterslide-4/
END:VEVENT
BEGIN:VEVENT
DTSTART;VALUE=DATE:20260815
DTEND;VALUE=DATE:20260816
DTSTAMP:20260422T020855
CREATED:20251230T132351Z
LAST-MODIFIED:20251230T150138Z
UID:10001894-1786827600-1786827600@gemeinde-simplon.ch
SUMMARY:Öffentlicher Anlass Sternwarte
DESCRIPTION:Für Bestätigung des Anlasses vorgängig Webseite: https://www.ago-sternwarte.ch/dienstleistungen/beobachtungsabend.php konsultieren
URL:https://gemeinde-simplon.ch/anlass/oeffentlicher-anlass-sternwarte-7/2026-08-15/
LOCATION:Sternwarte Simplon-Pass
END:VEVENT
BEGIN:VEVENT
DTSTART;VALUE=DATE:20260817
DTEND;VALUE=DATE:20260819
DTSTAMP:20260422T020855
CREATED:20251230T153653Z
LAST-MODIFIED:20251230T153653Z
UID:10001912-1786953600-1787039999@gemeinde-simplon.ch
SUMMARY:Schulbeginn
DESCRIPTION:
URL:https://gemeinde-simplon.ch/anlass/schulbeginn-5/
END:VEVENT
BEGIN:VEVENT
DTSTART;TZID=Europe/Zurich:20260821T190000
DTEND;TZID=Europe/Zurich:20260821T200000
DTSTAMP:20260422T020855
CREATED:20251230T141053Z
LAST-MODIFIED:20251230T141053Z
UID:10001874-1787338800-1787342400@gemeinde-simplon.ch
SUMMARY:Training - Schiessverein
DESCRIPTION:
URL:https://gemeinde-simplon.ch/anlass/training-schiessverein-3/2026-08-21/
LOCATION:Schiessstand Heji
END:VEVENT
BEGIN:VEVENT
DTSTART;VALUE=DATE:20260826
DTEND;VALUE=DATE:20260828
DTSTAMP:20260422T020855
CREATED:20251217T095134Z
LAST-MODIFIED:20251217T095134Z
UID:10001732-1787731200-1787817599@gemeinde-simplon.ch
SUMMARY:Beginn Volleyball - Damenturnverein
DESCRIPTION:
URL:https://gemeinde-simplon.ch/anlass/beginn-volleyball-damenturnverein-2/
LOCATION:Schulhaus
END:VEVENT
BEGIN:VEVENT
DTSTART;TZID=Europe/Zurich:20260827T130000
DTEND;TZID=Europe/Zurich:20260827T143000
DTSTAMP:20260422T020855
CREATED:20251226T175153Z
LAST-MODIFIED:20251226T175153Z
UID:10001778-1787835600-1787841000@gemeinde-simplon.ch
SUMMARY:Kartonsammlung
DESCRIPTION:
URL:https://gemeinde-simplon.ch/anlass/kartonsammlung-38/2026-08-27/
LOCATION:Kaplaneigebäude
END:VEVENT
BEGIN:VEVENT
DTSTART;TZID=Europe/Zurich:20260827T190000
DTEND;TZID=Europe/Zurich:20260827T213000
DTSTAMP:20260422T020855
CREATED:20251217T104943Z
LAST-MODIFIED:20251217T104943Z
UID:10001756-1787857200-1787866200@gemeinde-simplon.ch
SUMMARY:Zug Gondo - Feuerwehr Simplon-Süd
DESCRIPTION:
URL:https://gemeinde-simplon.ch/anlass/zug-gondo-feuerwehr-simplon-sued-6/2026-08-27/
END:VEVENT
BEGIN:VEVENT
DTSTART;TZID=Europe/Zurich:20260829T170000
DTEND;TZID=Europe/Zurich:20260829T190000
DTSTAMP:20260422T020855
CREATED:20251230T143055Z
LAST-MODIFIED:20251230T143055Z
UID:10001885-1788022800-1788030000@gemeinde-simplon.ch
SUMMARY:Obligatorisches OP - Schiessverein
DESCRIPTION:
URL:https://gemeinde-simplon.ch/anlass/obligatorisches-op-schiessverein-2/
LOCATION:Schiessstand Heji
END:VEVENT
BEGIN:VEVENT
DTSTART;VALUE=DATE:20260830
DTEND;VALUE=DATE:20260901
DTSTAMP:20260422T020855
CREATED:20251230T102137Z
LAST-MODIFIED:20251230T102137Z
UID:10001804-1788076800-1788163199@gemeinde-simplon.ch
SUMMARY:Berglauf - Skiclub Fletschhorn
DESCRIPTION:
URL:https://gemeinde-simplon.ch/anlass/berglauf-skiclub-fletschhorn-5/
END:VEVENT
END:VCALENDAR