BEGIN:VCALENDAR
VERSION:2.0
PRODID:-//Gemeinde Simplon Dorf - ECPv6.15.20//NONSGML v1.0//EN
CALSCALE:GREGORIAN
METHOD:PUBLISH
X-WR-CALNAME:Gemeinde Simplon Dorf
X-ORIGINAL-URL:https://gemeinde-simplon.ch
X-WR-CALDESC:Veranstaltungen für Gemeinde Simplon Dorf
REFRESH-INTERVAL;VALUE=DURATION:PT1H
X-Robots-Tag:noindex
X-PUBLISHED-TTL:PT1H
BEGIN:VTIMEZONE
TZID:Europe/Zurich
BEGIN:DAYLIGHT
TZOFFSETFROM:+0100
TZOFFSETTO:+0200
TZNAME:CEST
DTSTART:20250330T010000
END:DAYLIGHT
BEGIN:STANDARD
TZOFFSETFROM:+0200
TZOFFSETTO:+0100
TZNAME:CET
DTSTART:20251026T010000
END:STANDARD
BEGIN:DAYLIGHT
TZOFFSETFROM:+0100
TZOFFSETTO:+0200
TZNAME:CEST
DTSTART:20260329T010000
END:DAYLIGHT
BEGIN:STANDARD
TZOFFSETFROM:+0200
TZOFFSETTO:+0100
TZNAME:CET
DTSTART:20261025T010000
END:STANDARD
BEGIN:DAYLIGHT
TZOFFSETFROM:+0100
TZOFFSETTO:+0200
TZNAME:CEST
DTSTART:20270328T010000
END:DAYLIGHT
BEGIN:STANDARD
TZOFFSETFROM:+0200
TZOFFSETTO:+0100
TZNAME:CET
DTSTART:20271031T010000
END:STANDARD
END:VTIMEZONE
BEGIN:VEVENT
DTSTART;TZID=Europe/Zurich:20261001T190000
DTEND;TZID=Europe/Zurich:20261001T213000
DTSTAMP:20260422T052941
CREATED:20251217T102929Z
LAST-MODIFIED:20251217T102929Z
UID:10001746-1790881200-1790890200@gemeinde-simplon.ch
SUMMARY:Atemschutz - Feuerwehr Simplon-Süd
DESCRIPTION:
URL:https://gemeinde-simplon.ch/anlass/atemschutz-feuerwehr-simplon-sued-12/2026-10-01/
LOCATION:Feuerwehrlokal Blatt
END:VEVENT
BEGIN:VEVENT
DTSTART;VALUE=DATE:20261002
DTEND;VALUE=DATE:20261004
DTSTAMP:20260422T052941
CREATED:20251230T155247Z
LAST-MODIFIED:20251230T155247Z
UID:10001922-1790928000-1791014399@gemeinde-simplon.ch
SUMMARY:Probebeginn - Musikgesellschaft Bleiken
DESCRIPTION:
URL:https://gemeinde-simplon.ch/anlass/probebeginn-musikgesellschaft-bleiken-3/
END:VEVENT
BEGIN:VEVENT
DTSTART;TZID=Europe/Zurich:20261004T133000
DTEND;TZID=Europe/Zurich:20261004T180000
DTSTAMP:20260422T052941
CREATED:20251230T144017Z
LAST-MODIFIED:20251230T144017Z
UID:10001892-1791120600-1791136800@gemeinde-simplon.ch
SUMMARY:Endschiessen - Kleinkaliberverein
DESCRIPTION:
URL:https://gemeinde-simplon.ch/anlass/endschiessen-kleinkaliberverein-4/
LOCATION:Schiessstand Stalden
END:VEVENT
BEGIN:VEVENT
DTSTART;VALUE=DATE:20261005
DTEND;VALUE=DATE:20261007
DTSTAMP:20260422T052941
CREATED:20251217T095436Z
LAST-MODIFIED:20251217T095436Z
UID:10001733-1791187200-1791273599@gemeinde-simplon.ch
SUMMARY:Herbstwanderung (Polysport) - Damenturnverein
DESCRIPTION:
URL:https://gemeinde-simplon.ch/anlass/herbstwanderung-polysport-damenturnverein/
END:VEVENT
BEGIN:VEVENT
DTSTART;TZID=Europe/Zurich:20261006T200000
DTEND;TZID=Europe/Zurich:20261006T220000
DTSTAMP:20260422T052941
CREATED:20251230T095346Z
LAST-MODIFIED:20251230T095346Z
UID:10001797-1791316800-1791324000@gemeinde-simplon.ch
SUMMARY:Monatsübung - Samariterverein
DESCRIPTION:
URL:https://gemeinde-simplon.ch/anlass/monatsuebung-samariterverein-34/2026-10-06/
LOCATION:Schulhaus
END:VEVENT
BEGIN:VEVENT
DTSTART;VALUE=DATE:20261007
DTEND;VALUE=DATE:20261009
DTSTAMP:20260422T052941
CREATED:20251230T155348Z
LAST-MODIFIED:20251230T155348Z
UID:10001923-1791360000-1791446399@gemeinde-simplon.ch
SUMMARY:Probebeginn - Kirchenchor
DESCRIPTION:
URL:https://gemeinde-simplon.ch/anlass/probebeginn-kirchenchor-5/
END:VEVENT
BEGIN:VEVENT
DTSTART;TZID=Europe/Zurich:20261008T190000
DTEND;TZID=Europe/Zurich:20261008T190000
DTSTAMP:20260422T052941
CREATED:20251230T112144Z
LAST-MODIFIED:20251230T112144Z
UID:10001816-1791486000-1791486000@gemeinde-simplon.ch
SUMMARY:Beginn neues Vereinsjahr Mitgliederversammlung - Frauengemeinschaft
DESCRIPTION:
URL:https://gemeinde-simplon.ch/anlass/beginn-neues-vereinsjahr-mitgliederversammlung-frauengemeinschaft/
END:VEVENT
BEGIN:VEVENT
DTSTART;VALUE=DATE:20261009
DTEND;VALUE=DATE:20261011
DTSTAMP:20260422T052941
CREATED:20251226T175549Z
LAST-MODIFIED:20251226T175549Z
UID:10001784-1791532800-1791619199@gemeinde-simplon.ch
SUMMARY:Papiersammlung
DESCRIPTION:
URL:https://gemeinde-simplon.ch/anlass/papiersammlung-11/
LOCATION:Schulhausplatz
END:VEVENT
BEGIN:VEVENT
DTSTART;TZID=Europe/Zurich:20261010T080000
DTEND;TZID=Europe/Zurich:20261010T120000
DTSTAMP:20260422T052941
CREATED:20251217T105326Z
LAST-MODIFIED:20251217T105326Z
UID:10001760-1791619200-1791633600@gemeinde-simplon.ch
SUMMARY:Herbstübung - Feuerwehr Simplon-Süd
DESCRIPTION:
URL:https://gemeinde-simplon.ch/anlass/herbstuebung-feuerwehr-simplon-sued-4/
LOCATION:Feuerwehrlokal Blatt
END:VEVENT
BEGIN:VEVENT
DTSTART;VALUE=DATE:20261010
DTEND;VALUE=DATE:20261012
DTSTAMP:20260422T052941
CREATED:20251226T175640Z
LAST-MODIFIED:20251226T175640Z
UID:10001785-1791619200-1791705599@gemeinde-simplon.ch
SUMMARY:Alteisensammlung
DESCRIPTION:
URL:https://gemeinde-simplon.ch/anlass/alteisensammlung-2/
LOCATION:Schulhausplatz
END:VEVENT
BEGIN:VEVENT
DTSTART;VALUE=DATE:20261014
DTEND;VALUE=DATE:20261016
DTSTAMP:20260422T052941
CREATED:20251230T130557Z
LAST-MODIFIED:20251230T130557Z
UID:10001847-1791964800-1792051199@gemeinde-simplon.ch
SUMMARY:Gedenktag Gondo - Kirchenchor
DESCRIPTION:
URL:https://gemeinde-simplon.ch/anlass/gedenktag-gondo-kirchenchor-4/
END:VEVENT
BEGIN:VEVENT
DTSTART;VALUE=DATE:20261017
DTEND;VALUE=DATE:20261019
DTSTAMP:20260422T052941
CREATED:20251230T114651Z
LAST-MODIFIED:20251230T114651Z
UID:10001822-1792224000-1792310399@gemeinde-simplon.ch
SUMMARY:Castagnata - Kultur Simplon Süd
DESCRIPTION:
URL:https://gemeinde-simplon.ch/anlass/castagnata-kultur-simplon-sued-4/
LOCATION:Dorfplatz
END:VEVENT
BEGIN:VEVENT
DTSTART;VALUE=DATE:20261017
DTEND;VALUE=DATE:20261019
DTSTAMP:20260422T052941
CREATED:20251230T133939Z
LAST-MODIFIED:20251230T133939Z
UID:10001866-1792224000-1792310399@gemeinde-simplon.ch
SUMMARY:Oktoberfest - Jugendverein
DESCRIPTION:
URL:https://gemeinde-simplon.ch/anlass/oktoberfest-jugendverein-2/
LOCATION:Jugendlokal
END:VEVENT
BEGIN:VEVENT
DTSTART;VALUE=DATE:20261023
DTEND;VALUE=DATE:20261025
DTSTAMP:20260422T052941
CREATED:20251230T155532Z
LAST-MODIFIED:20251230T155532Z
UID:10001924-1792742400-1792828799@gemeinde-simplon.ch
SUMMARY:GV - Fussballclub
DESCRIPTION:
URL:https://gemeinde-simplon.ch/anlass/gv-fussballclub/
END:VEVENT
BEGIN:VEVENT
DTSTART;VALUE=DATE:20261023
DTEND;VALUE=DATE:20261024
DTSTAMP:20260422T052941
CREATED:20251230T132351Z
LAST-MODIFIED:20251230T150138Z
UID:10001896-1792782000-1792782000@gemeinde-simplon.ch
SUMMARY:Öffentlicher Anlass Sternwarte
DESCRIPTION:Für Bestätigung des Anlasses vorgängig Webseite: https://www.ago-sternwarte.ch/dienstleistungen/beobachtungsabend.php konsultieren
URL:https://gemeinde-simplon.ch/anlass/oeffentlicher-anlass-sternwarte-7/2026-10-23/
LOCATION:Sternwarte Simplon-Pass
END:VEVENT
BEGIN:VEVENT
DTSTART;VALUE=DATE:20261024
DTEND;VALUE=DATE:20261026
DTSTAMP:20260422T052941
CREATED:20251230T102750Z
LAST-MODIFIED:20251230T102750Z
UID:10001806-1792828800-1792915199@gemeinde-simplon.ch
SUMMARY:GV - Skiclub Fletschhorn
DESCRIPTION:
URL:https://gemeinde-simplon.ch/anlass/gv-skiclub-fletschhorn/
END:VEVENT
BEGIN:VEVENT
DTSTART;TZID=Europe/Zurich:20261028T133000
DTEND;TZID=Europe/Zurich:20261028T170000
DTSTAMP:20260422T052941
CREATED:20251217T082752Z
LAST-MODIFIED:20251217T082752Z
UID:10001713-1793194200-1793206800@gemeinde-simplon.ch
SUMMARY:Jass- und Spielnachmittag
DESCRIPTION:
URL:https://gemeinde-simplon.ch/anlass/jass-und-spielnachmittag-13/2026-10-28/
LOCATION:Schulhaus
END:VEVENT
BEGIN:VEVENT
DTSTART;TZID=Europe/Zurich:20261029T130000
DTEND;TZID=Europe/Zurich:20261029T143000
DTSTAMP:20260422T052941
CREATED:20251226T175153Z
LAST-MODIFIED:20251226T175153Z
UID:10001780-1793278800-1793284200@gemeinde-simplon.ch
SUMMARY:Kartonsammlung
DESCRIPTION:
URL:https://gemeinde-simplon.ch/anlass/kartonsammlung-38/2026-10-29/
LOCATION:Kaplaneigebäude
END:VEVENT
END:VCALENDAR