BEGIN:VCALENDAR
VERSION:2.0
PRODID:-//Gemeinde Simplon Dorf - ECPv6.15.20//NONSGML v1.0//EN
CALSCALE:GREGORIAN
METHOD:PUBLISH
X-ORIGINAL-URL:https://gemeinde-simplon.ch
X-WR-CALDESC:Veranstaltungen für Gemeinde Simplon Dorf
REFRESH-INTERVAL;VALUE=DURATION:PT1H
X-Robots-Tag:noindex
X-PUBLISHED-TTL:PT1H
BEGIN:VTIMEZONE
TZID:Europe/Zurich
BEGIN:DAYLIGHT
TZOFFSETFROM:+0100
TZOFFSETTO:+0200
TZNAME:CEST
DTSTART:20250330T010000
END:DAYLIGHT
BEGIN:STANDARD
TZOFFSETFROM:+0200
TZOFFSETTO:+0100
TZNAME:CET
DTSTART:20251026T010000
END:STANDARD
BEGIN:DAYLIGHT
TZOFFSETFROM:+0100
TZOFFSETTO:+0200
TZNAME:CEST
DTSTART:20260329T010000
END:DAYLIGHT
BEGIN:STANDARD
TZOFFSETFROM:+0200
TZOFFSETTO:+0100
TZNAME:CET
DTSTART:20261025T010000
END:STANDARD
BEGIN:DAYLIGHT
TZOFFSETFROM:+0100
TZOFFSETTO:+0200
TZNAME:CEST
DTSTART:20270328T010000
END:DAYLIGHT
BEGIN:STANDARD
TZOFFSETFROM:+0200
TZOFFSETTO:+0100
TZNAME:CET
DTSTART:20271031T010000
END:STANDARD
END:VTIMEZONE
BEGIN:VEVENT
DTSTART;VALUE=DATE:20261101
DTEND;VALUE=DATE:20261103
DTSTAMP:20260422T071858
CREATED:20251230T155747Z
LAST-MODIFIED:20251230T155747Z
UID:10001925-1793520000-1793606399@gemeinde-simplon.ch
SUMMARY:Allerheiligen - Kirchenchor / Musikgesellschaft Bleiken
DESCRIPTION:
URL:https://gemeinde-simplon.ch/anlass/allerheiligen-kirchenchor-musikgesellschaft-bleiken-4/
LOCATION:Kirche
END:VEVENT
BEGIN:VEVENT
DTSTART;VALUE=DATE:20261102
DTEND;VALUE=DATE:20261104
DTSTAMP:20260422T071858
CREATED:20251230T155837Z
LAST-MODIFIED:20251230T155837Z
UID:10001926-1793606400-1793692799@gemeinde-simplon.ch
SUMMARY:Allerseelen
DESCRIPTION:
URL:https://gemeinde-simplon.ch/anlass/allerseelen-4/
END:VEVENT
BEGIN:VEVENT
DTSTART;VALUE=DATE:20261103
DTEND;VALUE=DATE:20261105
DTSTAMP:20260422T071858
CREATED:20251217T095613Z
LAST-MODIFIED:20251217T095613Z
UID:10001734-1793692800-1793779199@gemeinde-simplon.ch
SUMMARY:Beginn Fun for Fit - Damenturnverein
DESCRIPTION:
URL:https://gemeinde-simplon.ch/anlass/beginn-fun-for-fit-damenturnverein-2/
LOCATION:Schulhaus
END:VEVENT
BEGIN:VEVENT
DTSTART;TZID=Europe/Zurich:20261103T200000
DTEND;TZID=Europe/Zurich:20261103T220000
DTSTAMP:20260422T071858
CREATED:20251230T095346Z
LAST-MODIFIED:20251230T095346Z
UID:10001798-1793736000-1793743200@gemeinde-simplon.ch
SUMMARY:Monatsübung - Samariterverein
DESCRIPTION:
URL:https://gemeinde-simplon.ch/anlass/monatsuebung-samariterverein-34/2026-11-03/
LOCATION:Schulhaus
END:VEVENT
BEGIN:VEVENT
DTSTART;VALUE=DATE:20261106
DTEND;VALUE=DATE:20261108
DTSTAMP:20260422T071858
CREATED:20251230T160032Z
LAST-MODIFIED:20251230T160032Z
UID:10001927-1793952000-1794038399@gemeinde-simplon.ch
SUMMARY:GV geschäftlicher Teil - Musikgesellschaft Bleiken
DESCRIPTION:
URL:https://gemeinde-simplon.ch/anlass/gv-geschaeftlicher-teil-musikgesellschaft-bleiken/
END:VEVENT
BEGIN:VEVENT
DTSTART;VALUE=DATE:20261107
DTEND;VALUE=DATE:20261109
DTSTAMP:20260422T071858
CREATED:20251230T160901Z
LAST-MODIFIED:20251230T160901Z
UID:10001933-1794038400-1794124799@gemeinde-simplon.ch
SUMMARY:Museumsnacht - Ecomuseum
DESCRIPTION:
URL:https://gemeinde-simplon.ch/anlass/museumsnacht-ecomuseum-2/
LOCATION:Alter Gasthof
END:VEVENT
BEGIN:VEVENT
DTSTART;VALUE=DATE:20261107
DTEND;VALUE=DATE:20261109
DTSTAMP:20260422T071858
CREATED:20251230T134053Z
LAST-MODIFIED:20251230T134053Z
UID:10001867-1794038400-1794124799@gemeinde-simplon.ch
SUMMARY:GV - Jugendverein
DESCRIPTION:
URL:https://gemeinde-simplon.ch/anlass/gv-jugendverein/
END:VEVENT
BEGIN:VEVENT
DTSTART;TZID=Europe/Zurich:20261107T200000
DTEND;TZID=Europe/Zurich:20261107T200000
DTSTAMP:20260422T071858
CREATED:20251230T161424Z
LAST-MODIFIED:20251230T161424Z
UID:10001935-1794081600-1794081600@gemeinde-simplon.ch
SUMMARY:Aufführung - Theaterverein
DESCRIPTION:
URL:https://gemeinde-simplon.ch/anlass/auffuehrung-theaterverein/2026-11-07/
LOCATION:Turnhalle
END:VEVENT
BEGIN:VEVENT
DTSTART;TZID=Europe/Zurich:20261108T150000
DTEND;TZID=Europe/Zurich:20261108T150000
DTSTAMP:20260422T071858
CREATED:20251230T161424Z
LAST-MODIFIED:20251230T161424Z
UID:10001936-1794150000-1794150000@gemeinde-simplon.ch
SUMMARY:Aufführung - Theaterverein
DESCRIPTION:
URL:https://gemeinde-simplon.ch/anlass/auffuehrung-theaterverein/2026-11-08/
LOCATION:Turnhalle
END:VEVENT
BEGIN:VEVENT
DTSTART;TZID=Europe/Zurich:20261111T133000
DTEND;TZID=Europe/Zurich:20261111T170000
DTSTAMP:20260422T071858
CREATED:20251217T082752Z
LAST-MODIFIED:20251217T082752Z
UID:10001714-1794403800-1794416400@gemeinde-simplon.ch
SUMMARY:Jass- und Spielnachmittag
DESCRIPTION:
URL:https://gemeinde-simplon.ch/anlass/jass-und-spielnachmittag-13/2026-11-11/
LOCATION:Schulhaus
END:VEVENT
BEGIN:VEVENT
DTSTART;TZID=Europe/Zurich:20261112T190000
DTEND;TZID=Europe/Zurich:20261112T213000
DTSTAMP:20260422T071858
CREATED:20251217T102929Z
LAST-MODIFIED:20251217T102929Z
UID:10001747-1794510000-1794519000@gemeinde-simplon.ch
SUMMARY:Atemschutz - Feuerwehr Simplon-Süd
DESCRIPTION:
URL:https://gemeinde-simplon.ch/anlass/atemschutz-feuerwehr-simplon-sued-12/2026-11-12/
LOCATION:Feuerwehrlokal Blatt
END:VEVENT
BEGIN:VEVENT
DTSTART;TZID=Europe/Zurich:20261113T200000
DTEND;TZID=Europe/Zurich:20261113T200000
DTSTAMP:20260422T071858
CREATED:20251230T161424Z
LAST-MODIFIED:20251230T161424Z
UID:10001937-1794600000-1794600000@gemeinde-simplon.ch
SUMMARY:Aufführung - Theaterverein
DESCRIPTION:
URL:https://gemeinde-simplon.ch/anlass/auffuehrung-theaterverein/2026-11-13/
LOCATION:Turnhalle
END:VEVENT
BEGIN:VEVENT
DTSTART;VALUE=DATE:20261114
DTEND;VALUE=DATE:20261116
DTSTAMP:20260422T071858
CREATED:20251230T160749Z
LAST-MODIFIED:20251230T160749Z
UID:10001932-1794643200-1794729599@gemeinde-simplon.ch
SUMMARY:GV gemütlicher Teil - Musikgesellschaft Bleiken
DESCRIPTION:
URL:https://gemeinde-simplon.ch/anlass/gv-gemuetlicher-teil-musikgesellschaft-bleiken/
END:VEVENT
BEGIN:VEVENT
DTSTART;VALUE=DATE:20261115
DTEND;VALUE=DATE:20261117
DTSTAMP:20260422T071858
CREATED:20251230T160635Z
LAST-MODIFIED:20251230T160635Z
UID:10001931-1794729600-1794815999@gemeinde-simplon.ch
SUMMARY:Geteilenversammlung - Guggili
DESCRIPTION:
URL:https://gemeinde-simplon.ch/anlass/geteilenversammlung-guggili-4/
END:VEVENT
BEGIN:VEVENT
DTSTART;VALUE=DATE:20261115
DTEND;VALUE=DATE:20261117
DTSTAMP:20260422T071858
CREATED:20251230T122519Z
LAST-MODIFIED:20251230T122519Z
UID:10001829-1794729600-1794815999@gemeinde-simplon.ch
SUMMARY:GV - Männerverein
DESCRIPTION:
URL:https://gemeinde-simplon.ch/anlass/gv-maennerverein/
END:VEVENT
BEGIN:VEVENT
DTSTART;TZID=Europe/Zurich:20261115T150000
DTEND;TZID=Europe/Zurich:20261115T150000
DTSTAMP:20260422T071858
CREATED:20251230T161424Z
LAST-MODIFIED:20251230T161424Z
UID:10001938-1794754800-1794754800@gemeinde-simplon.ch
SUMMARY:Aufführung - Theaterverein
DESCRIPTION:
URL:https://gemeinde-simplon.ch/anlass/auffuehrung-theaterverein/2026-11-15/
LOCATION:Turnhalle
END:VEVENT
BEGIN:VEVENT
DTSTART;VALUE=DATE:20261118
DTEND;VALUE=DATE:20261120
DTSTAMP:20260422T071858
CREATED:20251230T160454Z
LAST-MODIFIED:20251230T160454Z
UID:10001930-1794988800-1795075199@gemeinde-simplon.ch
SUMMARY:GV - Kirchenchor
DESCRIPTION:
URL:https://gemeinde-simplon.ch/anlass/gv-kirchenchor/
END:VEVENT
BEGIN:VEVENT
DTSTART;VALUE=DATE:20261121
DTEND;VALUE=DATE:20261123
DTSTAMP:20260422T071858
CREATED:20251217T095800Z
LAST-MODIFIED:20251217T095800Z
UID:10001735-1795248000-1795334399@gemeinde-simplon.ch
SUMMARY:Delegiertenversammlung (Polysport) - Damenturnverein
DESCRIPTION:
URL:https://gemeinde-simplon.ch/anlass/delegiertenversammlung-polysport-damenturnverein/
END:VEVENT
BEGIN:VEVENT
DTSTART;VALUE=DATE:20261122
DTEND;VALUE=DATE:20261124
DTSTAMP:20260422T071858
CREATED:20251230T160351Z
LAST-MODIFIED:20251230T160351Z
UID:10001929-1795334400-1795420799@gemeinde-simplon.ch
SUMMARY:Christkönig - Kirchenchor
DESCRIPTION:
URL:https://gemeinde-simplon.ch/anlass/christkoenig-kirchenchor-3/
END:VEVENT
BEGIN:VEVENT
DTSTART;TZID=Europe/Zurich:20261125T133000
DTEND;TZID=Europe/Zurich:20261125T170000
DTSTAMP:20260422T071858
CREATED:20251217T082752Z
LAST-MODIFIED:20251217T082752Z
UID:10001715-1795613400-1795626000@gemeinde-simplon.ch
SUMMARY:Jass- und Spielnachmittag
DESCRIPTION:
URL:https://gemeinde-simplon.ch/anlass/jass-und-spielnachmittag-13/2026-11-25/
LOCATION:Schulhaus
END:VEVENT
BEGIN:VEVENT
DTSTART;VALUE=DATE:20261126
DTEND;VALUE=DATE:20261128
DTSTAMP:20260422T071858
CREATED:20251230T160247Z
LAST-MODIFIED:20251230T160247Z
UID:10001928-1795680000-1795766399@gemeinde-simplon.ch
SUMMARY:GV - Simplon Tourismus
DESCRIPTION:
URL:https://gemeinde-simplon.ch/anlass/gv-simplon-tourismus/
END:VEVENT
BEGIN:VEVENT
DTSTART;TZID=Europe/Zurich:20261126T130000
DTEND;TZID=Europe/Zurich:20261126T143000
DTSTAMP:20260422T071858
CREATED:20251226T175153Z
LAST-MODIFIED:20251226T175153Z
UID:10001781-1795698000-1795703400@gemeinde-simplon.ch
SUMMARY:Kartonsammlung
DESCRIPTION:
URL:https://gemeinde-simplon.ch/anlass/kartonsammlung-38/2026-11-26/
LOCATION:Kaplaneigebäude
END:VEVENT
BEGIN:VEVENT
DTSTART;VALUE=DATE:20261128
DTEND;VALUE=DATE:20261130
DTSTAMP:20260422T071858
CREATED:20251230T114801Z
LAST-MODIFIED:20251230T114801Z
UID:10001823-1795852800-1795939199@gemeinde-simplon.ch
SUMMARY:Winterzauber - Kultur Simplon Süd
DESCRIPTION:
URL:https://gemeinde-simplon.ch/anlass/winterzauber-kultur-simplon-sued-5/
LOCATION:Dorfplatz
END:VEVENT
BEGIN:VEVENT
DTSTART;VALUE=DATE:20261129
DTEND;VALUE=DATE:20261201
DTSTAMP:20260422T071858
CREATED:20251230T161600Z
LAST-MODIFIED:20251230T161600Z
UID:10001939-1795939200-1796025599@gemeinde-simplon.ch
SUMMARY:1. Advent
DESCRIPTION:
URL:https://gemeinde-simplon.ch/anlass/1-advent-6/
END:VEVENT
END:VCALENDAR