BEGIN:VCALENDAR
VERSION:2.0
PRODID:-//Gemeinde Simplon Dorf - ECPv6.15.20//NONSGML v1.0//EN
CALSCALE:GREGORIAN
METHOD:PUBLISH
X-ORIGINAL-URL:https://gemeinde-simplon.ch
X-WR-CALDESC:Veranstaltungen für Gemeinde Simplon Dorf
REFRESH-INTERVAL;VALUE=DURATION:PT1H
X-Robots-Tag:noindex
X-PUBLISHED-TTL:PT1H
BEGIN:VTIMEZONE
TZID:Europe/Zurich
BEGIN:DAYLIGHT
TZOFFSETFROM:+0100
TZOFFSETTO:+0200
TZNAME:CEST
DTSTART:20250330T010000
END:DAYLIGHT
BEGIN:STANDARD
TZOFFSETFROM:+0200
TZOFFSETTO:+0100
TZNAME:CET
DTSTART:20251026T010000
END:STANDARD
BEGIN:DAYLIGHT
TZOFFSETFROM:+0100
TZOFFSETTO:+0200
TZNAME:CEST
DTSTART:20260329T010000
END:DAYLIGHT
BEGIN:STANDARD
TZOFFSETFROM:+0200
TZOFFSETTO:+0100
TZNAME:CET
DTSTART:20261025T010000
END:STANDARD
BEGIN:DAYLIGHT
TZOFFSETFROM:+0100
TZOFFSETTO:+0200
TZNAME:CEST
DTSTART:20270328T010000
END:DAYLIGHT
BEGIN:STANDARD
TZOFFSETFROM:+0200
TZOFFSETTO:+0100
TZNAME:CET
DTSTART:20271031T010000
END:STANDARD
BEGIN:DAYLIGHT
TZOFFSETFROM:+0100
TZOFFSETTO:+0200
TZNAME:CEST
DTSTART:20280326T010000
END:DAYLIGHT
BEGIN:STANDARD
TZOFFSETFROM:+0200
TZOFFSETTO:+0100
TZNAME:CET
DTSTART:20281029T010000
END:STANDARD
END:VTIMEZONE
BEGIN:VEVENT
DTSTART;VALUE=DATE:20261205
DTEND;VALUE=DATE:20261207
DTSTAMP:20260422T084745
CREATED:20251230T161948Z
LAST-MODIFIED:20251230T161948Z
UID:10001943-1796457600-1796543999@gemeinde-simplon.ch
SUMMARY:Probetag Hospiz - Musikgesellschaft Bleiken
DESCRIPTION:
URL:https://gemeinde-simplon.ch/anlass/probetag-hospiz-musikgesellschaft-bleiken-2/
END:VEVENT
BEGIN:VEVENT
DTSTART;VALUE=DATE:20261206
DTEND;VALUE=DATE:20261208
DTSTAMP:20260422T084745
CREATED:20251230T161637Z
LAST-MODIFIED:20251230T161637Z
UID:10001940-1796544000-1796630399@gemeinde-simplon.ch
SUMMARY:2. Advent
DESCRIPTION:
URL:https://gemeinde-simplon.ch/anlass/2-advent-6/
END:VEVENT
BEGIN:VEVENT
DTSTART;VALUE=DATE:20261206
DTEND;VALUE=DATE:20261208
DTSTAMP:20260422T084745
CREATED:20251230T161753Z
LAST-MODIFIED:20251230T161753Z
UID:10001941-1796544000-1796630399@gemeinde-simplon.ch
SUMMARY:St. Nikolaus - Kirchenchor
DESCRIPTION:
URL:https://gemeinde-simplon.ch/anlass/st-nikolaus-kirchenchor-5/
END:VEVENT
BEGIN:VEVENT
DTSTART;TZID=Europe/Zurich:20261206T133000
DTEND;TZID=Europe/Zurich:20261206T170000
DTSTAMP:20260422T084745
CREATED:20251217T082752Z
LAST-MODIFIED:20251217T082752Z
UID:10001716-1796563800-1796576400@gemeinde-simplon.ch
SUMMARY:Jass- und Spielnachmittag
DESCRIPTION:
URL:https://gemeinde-simplon.ch/anlass/jass-und-spielnachmittag-13/2026-12-06/
LOCATION:Schulhaus
END:VEVENT
BEGIN:VEVENT
DTSTART;VALUE=DATE:20261208
DTEND;VALUE=DATE:20261210
DTSTAMP:20260422T084745
CREATED:20251230T161838Z
LAST-MODIFIED:20251230T161838Z
UID:10001942-1796716800-1796803199@gemeinde-simplon.ch
SUMMARY:Maria Empfängnis - Kirchenchor
DESCRIPTION:
URL:https://gemeinde-simplon.ch/anlass/maria-empfaengnis-kirchenchor-5/
LOCATION:Kirche
END:VEVENT
BEGIN:VEVENT
DTSTART;TZID=Europe/Zurich:20261209T133000
DTEND;TZID=Europe/Zurich:20261209T170000
DTSTAMP:20260422T084745
CREATED:20251217T082752Z
LAST-MODIFIED:20251217T082752Z
UID:10001717-1796823000-1796835600@gemeinde-simplon.ch
SUMMARY:Jass- und Spielnachmittag
DESCRIPTION:
URL:https://gemeinde-simplon.ch/anlass/jass-und-spielnachmittag-13/2026-12-09/
LOCATION:Schulhaus
END:VEVENT
BEGIN:VEVENT
DTSTART;VALUE=DATE:20261211
DTEND;VALUE=DATE:20261213
DTSTAMP:20260422T084745
CREATED:20251230T130718Z
LAST-MODIFIED:20251230T130718Z
UID:10001848-1796976000-1797062399@gemeinde-simplon.ch
SUMMARY:Seniorenweihnacht
DESCRIPTION:
URL:https://gemeinde-simplon.ch/anlass/seniorenweihnacht-5/
LOCATION:Schulhaus
END:VEVENT
BEGIN:VEVENT
DTSTART;VALUE=DATE:20261211
DTEND;VALUE=DATE:20261212
DTSTAMP:20260422T084745
CREATED:20251230T132351Z
LAST-MODIFIED:20251230T150138Z
UID:10001897-1797015600-1797015600@gemeinde-simplon.ch
SUMMARY:Öffentlicher Anlass Sternwarte
DESCRIPTION:Für Bestätigung des Anlasses vorgängig Webseite: https://www.ago-sternwarte.ch/dienstleistungen/beobachtungsabend.php konsultieren
URL:https://gemeinde-simplon.ch/anlass/oeffentlicher-anlass-sternwarte-7/2026-12-11/
LOCATION:Sternwarte Simplon-Pass
END:VEVENT
BEGIN:VEVENT
DTSTART;VALUE=DATE:20261213
DTEND;VALUE=DATE:20261215
DTSTAMP:20260422T084745
CREATED:20251230T162119Z
LAST-MODIFIED:20251230T162119Z
UID:10001945-1797148800-1797235199@gemeinde-simplon.ch
SUMMARY:Friedenslicht - Musikgesellschaft Bleiken
DESCRIPTION:
URL:https://gemeinde-simplon.ch/anlass/friedenslicht-musikgesellschaft-bleiken-3/
LOCATION:Kirche
END:VEVENT
BEGIN:VEVENT
DTSTART;VALUE=DATE:20261213
DTEND;VALUE=DATE:20261215
DTSTAMP:20260422T084745
CREATED:20251230T162037Z
LAST-MODIFIED:20251230T162037Z
UID:10001944-1797148800-1797235199@gemeinde-simplon.ch
SUMMARY:3. Advent
DESCRIPTION:
URL:https://gemeinde-simplon.ch/anlass/3-advent-6/
END:VEVENT
BEGIN:VEVENT
DTSTART;VALUE=DATE:20261214
DTEND;VALUE=DATE:20261216
DTSTAMP:20260422T084745
CREATED:20251217T095913Z
LAST-MODIFIED:20251217T095913Z
UID:10001736-1797235200-1797321599@gemeinde-simplon.ch
SUMMARY:Weihnachtsfeier - Damenturnverein
DESCRIPTION:
URL:https://gemeinde-simplon.ch/anlass/weihnachtsfeier-damenturnverein-5/
END:VEVENT
BEGIN:VEVENT
DTSTART;TZID=Europe/Zurich:20261215T200000
DTEND;TZID=Europe/Zurich:20261215T220000
DTSTAMP:20260422T084745
CREATED:20251230T095739Z
LAST-MODIFIED:20251230T100059Z
UID:10001799-1797364800-1797372000@gemeinde-simplon.ch
SUMMARY:Monatsübung - Samariterverein
DESCRIPTION:
URL:https://gemeinde-simplon.ch/anlass/monatsuebung-samariterverein-35/
LOCATION:Werkhof
END:VEVENT
BEGIN:VEVENT
DTSTART;VALUE=DATE:20261217
DTEND;VALUE=DATE:20261219
DTSTAMP:20260422T084745
CREATED:20251230T162256Z
LAST-MODIFIED:20251230T162256Z
UID:10001946-1797494400-1797580799@gemeinde-simplon.ch
SUMMARY:Roratemesse
DESCRIPTION:
URL:https://gemeinde-simplon.ch/anlass/roratemesse/
LOCATION:Kirche
END:VEVENT
BEGIN:VEVENT
DTSTART;TZID=Europe/Zurich:20261217T130000
DTEND;TZID=Europe/Zurich:20261217T143000
DTSTAMP:20260422T084745
CREATED:20251226T175153Z
LAST-MODIFIED:20251226T175153Z
UID:10001782-1797512400-1797517800@gemeinde-simplon.ch
SUMMARY:Kartonsammlung
DESCRIPTION:
URL:https://gemeinde-simplon.ch/anlass/kartonsammlung-38/2026-12-17/
LOCATION:Kaplaneigebäude
END:VEVENT
BEGIN:VEVENT
DTSTART;VALUE=DATE:20261220
DTEND;VALUE=DATE:20261222
DTSTAMP:20260422T084745
CREATED:20251230T162417Z
LAST-MODIFIED:20251230T162417Z
UID:10001947-1797753600-1797839999@gemeinde-simplon.ch
SUMMARY:4. Advent
DESCRIPTION:
URL:https://gemeinde-simplon.ch/anlass/4-advent-6/
END:VEVENT
BEGIN:VEVENT
DTSTART;VALUE=DATE:20261224
DTEND;VALUE=DATE:20261226
DTSTAMP:20260422T084745
CREATED:20251230T162512Z
LAST-MODIFIED:20251230T162512Z
UID:10001948-1798099200-1798185599@gemeinde-simplon.ch
SUMMARY:Weihnachtsmesse - Kirchenchor
DESCRIPTION:
URL:https://gemeinde-simplon.ch/anlass/weihnachtsmesse-kirchenchor/
LOCATION:Kirche
END:VEVENT
BEGIN:VEVENT
DTSTART;VALUE=DATE:20261225
DTEND;VALUE=DATE:20261227
DTSTAMP:20260422T084745
CREATED:20251230T162608Z
LAST-MODIFIED:20251230T162608Z
UID:10001949-1798185600-1798271999@gemeinde-simplon.ch
SUMMARY:Weihnachten - Kirchenchor
DESCRIPTION:
URL:https://gemeinde-simplon.ch/anlass/weihnachten-kirchenchor-5/
LOCATION:Kirche
END:VEVENT
BEGIN:VEVENT
DTSTART;VALUE=DATE:20261231
DTEND;VALUE=DATE:20270102
DTSTAMP:20260422T084745
CREATED:20251230T112755Z
LAST-MODIFIED:20251230T112755Z
UID:10001817-1798704000-1798790399@gemeinde-simplon.ch
SUMMARY:Fackellauf - Skiclub Fletschhorn
DESCRIPTION:
URL:https://gemeinde-simplon.ch/anlass/fackellauf-skiclub-fletschhorn-4/
END:VEVENT
BEGIN:VEVENT
DTSTART;VALUE=DATE:20261231
DTEND;VALUE=DATE:20270102
DTSTAMP:20260422T084745
CREATED:20251230T134222Z
LAST-MODIFIED:20251230T134222Z
UID:10001868-1798704000-1798790399@gemeinde-simplon.ch
SUMMARY:Silvesterdisco - Jugendverein
DESCRIPTION:
URL:https://gemeinde-simplon.ch/anlass/silvesterdisco-jugendverein/
LOCATION:Jugendlokal
END:VEVENT
END:VCALENDAR