BEGIN:VCALENDAR
VERSION:2.0
PRODID:-//Gemeinde Simplon Dorf - ECPv6.15.20//NONSGML v1.0//EN
CALSCALE:GREGORIAN
METHOD:PUBLISH
X-WR-CALNAME:Gemeinde Simplon Dorf
X-ORIGINAL-URL:https://gemeinde-simplon.ch
X-WR-CALDESC:Veranstaltungen für Gemeinde Simplon Dorf
REFRESH-INTERVAL;VALUE=DURATION:PT1H
X-Robots-Tag:noindex
X-PUBLISHED-TTL:PT1H
BEGIN:VTIMEZONE
TZID:Europe/Zurich
BEGIN:DAYLIGHT
TZOFFSETFROM:+0100
TZOFFSETTO:+0200
TZNAME:CEST
DTSTART:20210328T010000
END:DAYLIGHT
BEGIN:STANDARD
TZOFFSETFROM:+0200
TZOFFSETTO:+0100
TZNAME:CET
DTSTART:20211031T010000
END:STANDARD
BEGIN:DAYLIGHT
TZOFFSETFROM:+0100
TZOFFSETTO:+0200
TZNAME:CEST
DTSTART:20220327T010000
END:DAYLIGHT
BEGIN:STANDARD
TZOFFSETFROM:+0200
TZOFFSETTO:+0100
TZNAME:CET
DTSTART:20221030T010000
END:STANDARD
BEGIN:DAYLIGHT
TZOFFSETFROM:+0100
TZOFFSETTO:+0200
TZNAME:CEST
DTSTART:20230326T010000
END:DAYLIGHT
BEGIN:STANDARD
TZOFFSETFROM:+0200
TZOFFSETTO:+0100
TZNAME:CET
DTSTART:20231029T010000
END:STANDARD
BEGIN:DAYLIGHT
TZOFFSETFROM:+0100
TZOFFSETTO:+0200
TZNAME:CEST
DTSTART:20240331T010000
END:DAYLIGHT
BEGIN:STANDARD
TZOFFSETFROM:+0200
TZOFFSETTO:+0100
TZNAME:CET
DTSTART:20241027T010000
END:STANDARD
END:VTIMEZONE
BEGIN:VEVENT
DTSTART;TZID=Europe/Zurich:20230222T133000
DTEND;TZID=Europe/Zurich:20230222T173000
DTSTAMP:20260422T210531
CREATED:20221214T073256Z
LAST-MODIFIED:20221214T073256Z
UID:10001071-1677072600-1677087000@gemeinde-simplon.ch
SUMMARY:Jass- und Spielnachmittag - Frauengemeinschaft
DESCRIPTION:﻿
URL:https://gemeinde-simplon.ch/anlass/jass-und-spielnachmittag-frauengemeinschaft-11/
LOCATION:Schulhaus
END:VEVENT
BEGIN:VEVENT
DTSTART;TZID=Europe/Zurich:20230216T140000
DTEND;TZID=Europe/Zurich:20230216T180000
DTSTAMP:20260422T210531
CREATED:20221214T072214Z
LAST-MODIFIED:20221214T072214Z
UID:10000902-1676556000-1676570400@gemeinde-simplon.ch
SUMMARY:Bunter Nachmittag
DESCRIPTION:﻿
URL:https://gemeinde-simplon.ch/anlass/bunter-nachmittag/
LOCATION:Schulhaus
END:VEVENT
BEGIN:VEVENT
DTSTART;TZID=Europe/Zurich:20230208T133000
DTEND;TZID=Europe/Zurich:20230208T173000
DTSTAMP:20260422T210531
CREATED:20221213T164848Z
LAST-MODIFIED:20221213T164848Z
UID:10000893-1675863000-1675877400@gemeinde-simplon.ch
SUMMARY:Jass- und Spielnachmittag - Frauengemeinschaft
DESCRIPTION:﻿
URL:https://gemeinde-simplon.ch/anlass/jass-und-spielnachmittag-frauengemeinschaft-10/
LOCATION:Schulhaus
END:VEVENT
BEGIN:VEVENT
DTSTART;TZID=Europe/Zurich:20230207T200000
DTEND;TZID=Europe/Zurich:20230207T220000
DTSTAMP:20260422T210531
CREATED:20221213T164757Z
LAST-MODIFIED:20221213T164924Z
UID:10000891-1675800000-1675807200@gemeinde-simplon.ch
SUMMARY:Monatsübung - Samariterverein
DESCRIPTION:﻿﻿
URL:https://gemeinde-simplon.ch/anlass/monatsuebung-samariterverein-8/
LOCATION:Schulhaus
END:VEVENT
BEGIN:VEVENT
DTSTART;TZID=Europe/Zurich:20230202T133000
DTEND;TZID=Europe/Zurich:20230202T170000
DTSTAMP:20260422T210531
CREATED:20221213T164320Z
LAST-MODIFIED:20221213T164320Z
UID:10001063-1675344600-1675357200@gemeinde-simplon.ch
SUMMARY:Vortrag Frauen in Flow - Frauengemeinschaft
DESCRIPTION:﻿
URL:https://gemeinde-simplon.ch/anlass/vortrag-frauen-in-flow-frauengemeinschaft/
LOCATION:Schulhaus
END:VEVENT
BEGIN:VEVENT
DTSTART;TZID=Europe/Zurich:20230128T170000
DTEND;TZID=Europe/Zurich:20230128T190000
DTSTAMP:20260422T210531
CREATED:20221213T155837Z
LAST-MODIFIED:20221213T162006Z
UID:10001053-1674925200-1674932400@gemeinde-simplon.ch
SUMMARY:Probeabend Chruitfrässär
DESCRIPTION:﻿﻿﻿
URL:https://gemeinde-simplon.ch/anlass/probeabend-chruitfraessaer/
LOCATION:Schulhaus
END:VEVENT
BEGIN:VEVENT
DTSTART;VALUE=DATE:20230126
DTEND;VALUE=DATE:20230128
DTSTAMP:20260422T210531
CREATED:20221213T155524Z
LAST-MODIFIED:20221213T155524Z
UID:10001049-1674720000-1674806399@gemeinde-simplon.ch
SUMMARY:Einkehrtag Pro Senectute
DESCRIPTION:
URL:https://gemeinde-simplon.ch/anlass/einkehrtag-pro-senectute/
LOCATION:Schulhaus
END:VEVENT
BEGIN:VEVENT
DTSTART;TZID=Europe/Zurich:20230125T133000
DTEND;TZID=Europe/Zurich:20230125T173000
DTSTAMP:20260422T210531
CREATED:20221213T155422Z
LAST-MODIFIED:20221213T155422Z
UID:10001048-1674653400-1674667800@gemeinde-simplon.ch
SUMMARY:Jass- und Spielnachmittag - Frauengemeinschaft
DESCRIPTION:﻿
URL:https://gemeinde-simplon.ch/anlass/jass-und-spielnachmittag-frauengemeinschaft-9/
LOCATION:Schulhaus
END:VEVENT
BEGIN:VEVENT
DTSTART;TZID=Europe/Zurich:20230116T193000
DTEND;TZID=Europe/Zurich:20230116T210000
DTSTAMP:20260422T210531
CREATED:20221213T152910Z
LAST-MODIFIED:20221213T152910Z
UID:10001046-1673897400-1673902800@gemeinde-simplon.ch
SUMMARY:Besinnlicher Abend mit Pfarrer - Frauengemeinschaft
DESCRIPTION:﻿
URL:https://gemeinde-simplon.ch/anlass/besinnlicher-abend-mit-pfarrer-frauengemeinschaft/
LOCATION:Schulhaus
END:VEVENT
BEGIN:VEVENT
DTSTART;VALUE=DATE:20230112
DTEND;VALUE=DATE:20230114
DTSTAMP:20260422T210531
CREATED:20221213T151822Z
LAST-MODIFIED:20221213T151822Z
UID:10001038-1673510400-1673596799@gemeinde-simplon.ch
SUMMARY:Intensivtag Erstkommunion
DESCRIPTION:﻿
URL:https://gemeinde-simplon.ch/anlass/intensivtag-erstkommunion/
LOCATION:Schulhaus
END:VEVENT
BEGIN:VEVENT
DTSTART;TZID=Europe/Zurich:20230111T133000
DTEND;TZID=Europe/Zurich:20230111T173000
DTSTAMP:20260422T210531
CREATED:20221213T151730Z
LAST-MODIFIED:20221213T151730Z
UID:10001036-1673443800-1673458200@gemeinde-simplon.ch
SUMMARY:Jass- und Spielnachmittag - Frauengemeinschaft
DESCRIPTION:﻿
URL:https://gemeinde-simplon.ch/anlass/jass-und-spielnachmittag-frauengemeinschaft-8/
LOCATION:Schulhaus
END:VEVENT
BEGIN:VEVENT
DTSTART;TZID=Europe/Zurich:20221216T133000
DTEND;TZID=Europe/Zurich:20221216T183000
DTSTAMP:20260422T210531
CREATED:20220401T143851Z
LAST-MODIFIED:20220401T143851Z
UID:10001021-1671197400-1671215400@gemeinde-simplon.ch
SUMMARY:Seniorenweihnacht - Pfarreirat
DESCRIPTION:
URL:https://gemeinde-simplon.ch/anlass/seniorenweihnacht-pfarreirat/
LOCATION:Schulhaus
END:VEVENT
BEGIN:VEVENT
DTSTART;TZID=Europe/Zurich:20221214T133000
DTEND;TZID=Europe/Zurich:20221214T173000
DTSTAMP:20260422T210531
CREATED:20220401T143356Z
LAST-MODIFIED:20220401T143356Z
UID:10001019-1671024600-1671039000@gemeinde-simplon.ch
SUMMARY:Jass- und Spielnachmittag - Frauengemeinschaft
DESCRIPTION:
URL:https://gemeinde-simplon.ch/anlass/jass-und-spielnachmittag-frauengemeinschaft-7/
LOCATION:Schulhaus
END:VEVENT
BEGIN:VEVENT
DTSTART;TZID=Europe/Zurich:20221213T193000
DTEND;TZID=Europe/Zurich:20221213T220000
DTSTAMP:20260422T210531
CREATED:20220401T143111Z
LAST-MODIFIED:20220401T143111Z
UID:10001018-1670959800-1670968800@gemeinde-simplon.ch
SUMMARY:Monatsübung - Samariterverein
DESCRIPTION:
URL:https://gemeinde-simplon.ch/anlass/monatsuebung-samariterverein-7/
LOCATION:Schulhaus
END:VEVENT
BEGIN:VEVENT
DTSTART;TZID=Europe/Zurich:20221206T133000
DTEND;TZID=Europe/Zurich:20221206T173000
DTSTAMP:20260422T210531
CREATED:20220401T142723Z
LAST-MODIFIED:20220401T142723Z
UID:10001007-1670333400-1670347800@gemeinde-simplon.ch
SUMMARY:Jass- und Spielnachmittag - Frauengemeinschaft
DESCRIPTION:
URL:https://gemeinde-simplon.ch/anlass/jass-und-spielnachmittag-frauengemeinschaft-6/
LOCATION:Schulhaus
END:VEVENT
BEGIN:VEVENT
DTSTART;TZID=Europe/Zurich:20221123T133000
DTEND;TZID=Europe/Zurich:20221123T173000
DTSTAMP:20260422T210531
CREATED:20220401T141457Z
LAST-MODIFIED:20220401T141457Z
UID:10000854-1669210200-1669224600@gemeinde-simplon.ch
SUMMARY:Jass- und Spielnachmittag - Frauengemeinschaft
DESCRIPTION:
URL:https://gemeinde-simplon.ch/anlass/jass-und-spielnachmittag-frauengemeinschaft-5/
LOCATION:Schulhaus
END:VEVENT
BEGIN:VEVENT
DTSTART;TZID=Europe/Zurich:20221109T173000
DTEND;TZID=Europe/Zurich:20221109T193000
DTSTAMP:20260422T210531
CREATED:20220401T135644Z
LAST-MODIFIED:20220401T135644Z
UID:10000972-1668015000-1668022200@gemeinde-simplon.ch
SUMMARY:Jass- und Spielnachmittag - Frauengemeinschaft
DESCRIPTION:
URL:https://gemeinde-simplon.ch/anlass/jass-und-spielnachmittag-frauengemeinschaft-4/
LOCATION:Schulhaus
END:VEVENT
BEGIN:VEVENT
DTSTART;TZID=Europe/Zurich:20221108T193000
DTEND;TZID=Europe/Zurich:20221108T220000
DTSTAMP:20260422T210531
CREATED:20220401T135513Z
LAST-MODIFIED:20220401T135513Z
UID:10000971-1667935800-1667944800@gemeinde-simplon.ch
SUMMARY:Monatsübung - Samariterverein
DESCRIPTION:
URL:https://gemeinde-simplon.ch/anlass/monatsuebung-samariterverein-6/
LOCATION:Schulhaus
END:VEVENT
BEGIN:VEVENT
DTSTART;TZID=Europe/Zurich:20221108T083000
DTEND;TZID=Europe/Zurich:20221108T103000
DTSTAMP:20260422T210531
CREATED:20220401T135317Z
LAST-MODIFIED:20220401T135317Z
UID:10000969-1667896200-1667903400@gemeinde-simplon.ch
SUMMARY:Turnbeginn - Damenturnverein
DESCRIPTION:
URL:https://gemeinde-simplon.ch/anlass/turnbeginn-damenturnverein/
LOCATION:Schulhaus
END:VEVENT
BEGIN:VEVENT
DTSTART;TZID=Europe/Zurich:20221026T133000
DTEND;TZID=Europe/Zurich:20221026T173000
DTSTAMP:20260422T210531
CREATED:20220401T134502Z
LAST-MODIFIED:20220401T134502Z
UID:10000951-1666791000-1666805400@gemeinde-simplon.ch
SUMMARY:Jass- und Spielnachmittag - Frauengemeinschaft
DESCRIPTION:
URL:https://gemeinde-simplon.ch/anlass/jass-und-spielnachmittag-frauengemeinschaft-3/
LOCATION:Schulhaus
END:VEVENT
BEGIN:VEVENT
DTSTART;TZID=Europe/Zurich:20221005T193000
DTEND;TZID=Europe/Zurich:20221005T220000
DTSTAMP:20260422T210531
CREATED:20220401T133854Z
LAST-MODIFIED:20220401T133854Z
UID:10000937-1664998200-1665007200@gemeinde-simplon.ch
SUMMARY:Probebeginn - Kirchenchor
DESCRIPTION:
URL:https://gemeinde-simplon.ch/anlass/probebeginn-kirchenchor/
LOCATION:Schulhaus
END:VEVENT
BEGIN:VEVENT
DTSTART;TZID=Europe/Zurich:20221004T193000
DTEND;TZID=Europe/Zurich:20221004T220000
DTSTAMP:20260422T210531
CREATED:20220401T133757Z
LAST-MODIFIED:20220401T133757Z
UID:10000935-1664911800-1664920800@gemeinde-simplon.ch
SUMMARY:Monatsübung - Samariterverein
DESCRIPTION:
URL:https://gemeinde-simplon.ch/anlass/monatsuebung-samariterverein-5/
LOCATION:Schulhaus
END:VEVENT
BEGIN:VEVENT
DTSTART;TZID=Europe/Zurich:20220924T180000
DTEND;TZID=Europe/Zurich:20220924T233000
DTSTAMP:20260422T210531
CREATED:20220401T132621Z
LAST-MODIFIED:20220401T132927Z
UID:10000833-1664042400-1664062200@gemeinde-simplon.ch
SUMMARY:Abusitz - Musikgesellschaft Bleiken
DESCRIPTION:
URL:https://gemeinde-simplon.ch/anlass/abusitz-musikgesellschaft-bleiken/
LOCATION:Schulhaus
END:VEVENT
BEGIN:VEVENT
DTSTART;TZID=Europe/Zurich:20220906T193000
DTEND;TZID=Europe/Zurich:20220906T220000
DTSTAMP:20260422T210531
CREATED:20220401T131737Z
LAST-MODIFIED:20220401T131737Z
UID:10000987-1662492600-1662501600@gemeinde-simplon.ch
SUMMARY:Monatsübung - Samariterverein
DESCRIPTION:
URL:https://gemeinde-simplon.ch/anlass/monatsuebung-samariterverein-4/
LOCATION:Schulhaus
END:VEVENT
BEGIN:VEVENT
DTSTART;VALUE=DATE:20220816
DTEND;VALUE=DATE:20220818
DTSTAMP:20260422T210531
CREATED:20220401T130440Z
LAST-MODIFIED:20220401T130440Z
UID:10000970-1660636800-1660723199@gemeinde-simplon.ch
SUMMARY:Schulbeginn
DESCRIPTION:
URL:https://gemeinde-simplon.ch/anlass/schulbeginn/
LOCATION:Schulhaus
END:VEVENT
BEGIN:VEVENT
DTSTART;TZID=Europe/Zurich:20220629T083000
DTEND;TZID=Europe/Zurich:20220629T113000
DTSTAMP:20260422T210531
CREATED:20220401T113902Z
LAST-MODIFIED:20220401T113902Z
UID:10000932-1656491400-1656502200@gemeinde-simplon.ch
SUMMARY:Schulschluss
DESCRIPTION:
URL:https://gemeinde-simplon.ch/anlass/schulschluss/
LOCATION:Schulhaus
END:VEVENT
BEGIN:VEVENT
DTSTART;TZID=Europe/Zurich:20220607T193000
DTEND;TZID=Europe/Zurich:20220607T220000
DTSTAMP:20260422T210531
CREATED:20220401T112400Z
LAST-MODIFIED:20220401T112400Z
UID:10000799-1654630200-1654639200@gemeinde-simplon.ch
SUMMARY:Monatsübung Samariterverein
DESCRIPTION:
URL:https://gemeinde-simplon.ch/anlass/monatsuebung-samariterverein-3/
LOCATION:Schulhaus
END:VEVENT
BEGIN:VEVENT
DTSTART;TZID=Europe/Zurich:20220511T133000
DTEND;TZID=Europe/Zurich:20220511T173000
DTSTAMP:20260422T210531
CREATED:20220401T073833Z
LAST-MODIFIED:20220401T073833Z
UID:10000788-1652275800-1652290200@gemeinde-simplon.ch
SUMMARY:Jass- und Spielnachmittag - Frauengemeischaft
DESCRIPTION:
URL:https://gemeinde-simplon.ch/anlass/jass-und-spielnachmittag-frauengemeischaft/
LOCATION:Schulhaus
END:VEVENT
BEGIN:VEVENT
DTSTART;TZID=Europe/Zurich:20220503T193000
DTEND;TZID=Europe/Zurich:20220503T220000
DTSTAMP:20260422T210531
CREATED:20220401T073448Z
LAST-MODIFIED:20220401T073448Z
UID:10000783-1651606200-1651615200@gemeinde-simplon.ch
SUMMARY:Monatsübung - Samariterverein
DESCRIPTION:
URL:https://gemeinde-simplon.ch/anlass/monatsuebung-samariterverein-2/
LOCATION:Schulhaus
END:VEVENT
BEGIN:VEVENT
DTSTART;TZID=Europe/Zurich:20220427T133000
DTEND;TZID=Europe/Zurich:20220427T173000
DTSTAMP:20260422T210531
CREATED:20220401T071944Z
LAST-MODIFIED:20220401T071944Z
UID:10000886-1651066200-1651080600@gemeinde-simplon.ch
SUMMARY:Jass- und Spielnachmittag - Frauengemeinschaft
DESCRIPTION:
URL:https://gemeinde-simplon.ch/anlass/jass-und-spielnachmittag-frauengemeinschaft-2/
LOCATION:Schulhaus
END:VEVENT
END:VCALENDAR