BEGIN:VCALENDAR
VERSION:2.0
PRODID:-//Gemeinde Simplon Dorf - ECPv6.15.20//NONSGML v1.0//EN
CALSCALE:GREGORIAN
METHOD:PUBLISH
X-ORIGINAL-URL:https://gemeinde-simplon.ch
X-WR-CALDESC:Veranstaltungen für Gemeinde Simplon Dorf
REFRESH-INTERVAL;VALUE=DURATION:PT1H
X-Robots-Tag:noindex
X-PUBLISHED-TTL:PT1H
BEGIN:VTIMEZONE
TZID:Europe/Zurich
BEGIN:DAYLIGHT
TZOFFSETFROM:+0100
TZOFFSETTO:+0200
TZNAME:CEST
DTSTART:20210328T010000
END:DAYLIGHT
BEGIN:STANDARD
TZOFFSETFROM:+0200
TZOFFSETTO:+0100
TZNAME:CET
DTSTART:20211031T010000
END:STANDARD
BEGIN:DAYLIGHT
TZOFFSETFROM:+0100
TZOFFSETTO:+0200
TZNAME:CEST
DTSTART:20220327T010000
END:DAYLIGHT
BEGIN:STANDARD
TZOFFSETFROM:+0200
TZOFFSETTO:+0100
TZNAME:CET
DTSTART:20221030T010000
END:STANDARD
BEGIN:DAYLIGHT
TZOFFSETFROM:+0100
TZOFFSETTO:+0200
TZNAME:CEST
DTSTART:20230326T010000
END:DAYLIGHT
BEGIN:STANDARD
TZOFFSETFROM:+0200
TZOFFSETTO:+0100
TZNAME:CET
DTSTART:20231029T010000
END:STANDARD
END:VTIMEZONE
BEGIN:VEVENT
DTSTART;VALUE=DATE:20220816
DTEND;VALUE=DATE:20220818
DTSTAMP:20260423T002030
CREATED:20220401T130440Z
LAST-MODIFIED:20220401T130440Z
UID:10000970-1660636800-1660723199@gemeinde-simplon.ch
SUMMARY:Schulbeginn
DESCRIPTION:
URL:https://gemeinde-simplon.ch/anlass/schulbeginn/
LOCATION:Schulhaus
END:VEVENT
BEGIN:VEVENT
DTSTART;TZID=Europe/Zurich:20220629T083000
DTEND;TZID=Europe/Zurich:20220629T113000
DTSTAMP:20260423T002030
CREATED:20220401T113902Z
LAST-MODIFIED:20220401T113902Z
UID:10000932-1656491400-1656502200@gemeinde-simplon.ch
SUMMARY:Schulschluss
DESCRIPTION:
URL:https://gemeinde-simplon.ch/anlass/schulschluss/
LOCATION:Schulhaus
END:VEVENT
BEGIN:VEVENT
DTSTART;TZID=Europe/Zurich:20220607T193000
DTEND;TZID=Europe/Zurich:20220607T220000
DTSTAMP:20260423T002030
CREATED:20220401T112400Z
LAST-MODIFIED:20220401T112400Z
UID:10000799-1654630200-1654639200@gemeinde-simplon.ch
SUMMARY:Monatsübung Samariterverein
DESCRIPTION:
URL:https://gemeinde-simplon.ch/anlass/monatsuebung-samariterverein-3/
LOCATION:Schulhaus
END:VEVENT
BEGIN:VEVENT
DTSTART;TZID=Europe/Zurich:20220511T133000
DTEND;TZID=Europe/Zurich:20220511T173000
DTSTAMP:20260423T002030
CREATED:20220401T073833Z
LAST-MODIFIED:20220401T073833Z
UID:10000788-1652275800-1652290200@gemeinde-simplon.ch
SUMMARY:Jass- und Spielnachmittag - Frauengemeischaft
DESCRIPTION:
URL:https://gemeinde-simplon.ch/anlass/jass-und-spielnachmittag-frauengemeischaft/
LOCATION:Schulhaus
END:VEVENT
BEGIN:VEVENT
DTSTART;TZID=Europe/Zurich:20220503T193000
DTEND;TZID=Europe/Zurich:20220503T220000
DTSTAMP:20260423T002030
CREATED:20220401T073448Z
LAST-MODIFIED:20220401T073448Z
UID:10000783-1651606200-1651615200@gemeinde-simplon.ch
SUMMARY:Monatsübung - Samariterverein
DESCRIPTION:
URL:https://gemeinde-simplon.ch/anlass/monatsuebung-samariterverein-2/
LOCATION:Schulhaus
END:VEVENT
BEGIN:VEVENT
DTSTART;TZID=Europe/Zurich:20220427T133000
DTEND;TZID=Europe/Zurich:20220427T173000
DTSTAMP:20260423T002030
CREATED:20220401T071944Z
LAST-MODIFIED:20220401T071944Z
UID:10000886-1651066200-1651080600@gemeinde-simplon.ch
SUMMARY:Jass- und Spielnachmittag - Frauengemeinschaft
DESCRIPTION:
URL:https://gemeinde-simplon.ch/anlass/jass-und-spielnachmittag-frauengemeinschaft-2/
LOCATION:Schulhaus
END:VEVENT
BEGIN:VEVENT
DTSTART;TZID=Europe/Zurich:20220409T170000
DTEND;TZID=Europe/Zurich:20220409T233000
DTSTAMP:20260423T002030
CREATED:20220331T152315Z
LAST-MODIFIED:20220331T152315Z
UID:10000856-1649523600-1649547000@gemeinde-simplon.ch
SUMMARY:Jassmatch - Jugendverein Simplon
DESCRIPTION:
URL:https://gemeinde-simplon.ch/anlass/jassmatch-jugendverein-simplon/
LOCATION:Schulhaus
END:VEVENT
BEGIN:VEVENT
DTSTART;TZID=Europe/Zurich:20220406T133000
DTEND;TZID=Europe/Zurich:20220406T173000
DTSTAMP:20260423T002030
CREATED:20220331T150542Z
LAST-MODIFIED:20220331T150542Z
UID:10000848-1649251800-1649266200@gemeinde-simplon.ch
SUMMARY:Jass- und Spielnachmittag - Frauengemeinschaft
DESCRIPTION:
URL:https://gemeinde-simplon.ch/anlass/jass-und-spielnachmittag-frauengemeinschaft/
LOCATION:Schulhaus
END:VEVENT
BEGIN:VEVENT
DTSTART;TZID=Europe/Zurich:20220405T193000
DTEND;TZID=Europe/Zurich:20220405T220000
DTSTAMP:20260423T002030
CREATED:20220329T145617Z
LAST-MODIFIED:20220331T150332Z
UID:10000846-1649187000-1649196000@gemeinde-simplon.ch
SUMMARY:Monatsübung - Samariterverein
DESCRIPTION:
URL:https://gemeinde-simplon.ch/anlass/monatsuebung-samariterverein/
LOCATION:Schulhaus
END:VEVENT
END:VCALENDAR