BEGIN:VCALENDAR
VERSION:2.0
PRODID:-//Gemeinde Simplon Dorf - ECPv6.15.20//NONSGML v1.0//EN
CALSCALE:GREGORIAN
METHOD:PUBLISH
X-WR-CALNAME:Gemeinde Simplon Dorf
X-ORIGINAL-URL:https://gemeinde-simplon.ch
X-WR-CALDESC:Veranstaltungen für Gemeinde Simplon Dorf
REFRESH-INTERVAL;VALUE=DURATION:PT1H
X-Robots-Tag:noindex
X-PUBLISHED-TTL:PT1H
BEGIN:VTIMEZONE
TZID:Europe/Zurich
BEGIN:DAYLIGHT
TZOFFSETFROM:+0100
TZOFFSETTO:+0200
TZNAME:CEST
DTSTART:20220327T010000
END:DAYLIGHT
BEGIN:STANDARD
TZOFFSETFROM:+0200
TZOFFSETTO:+0100
TZNAME:CET
DTSTART:20221030T010000
END:STANDARD
BEGIN:DAYLIGHT
TZOFFSETFROM:+0100
TZOFFSETTO:+0200
TZNAME:CEST
DTSTART:20230326T010000
END:DAYLIGHT
BEGIN:STANDARD
TZOFFSETFROM:+0200
TZOFFSETTO:+0100
TZNAME:CET
DTSTART:20231029T010000
END:STANDARD
BEGIN:DAYLIGHT
TZOFFSETFROM:+0100
TZOFFSETTO:+0200
TZNAME:CEST
DTSTART:20240331T010000
END:DAYLIGHT
BEGIN:STANDARD
TZOFFSETFROM:+0200
TZOFFSETTO:+0100
TZNAME:CET
DTSTART:20241027T010000
END:STANDARD
BEGIN:DAYLIGHT
TZOFFSETFROM:+0100
TZOFFSETTO:+0200
TZNAME:CEST
DTSTART:20250330T010000
END:DAYLIGHT
BEGIN:STANDARD
TZOFFSETFROM:+0200
TZOFFSETTO:+0100
TZNAME:CET
DTSTART:20251026T010000
END:STANDARD
END:VTIMEZONE
BEGIN:VEVENT
DTSTART;TZID=Europe/Zurich:20240819T080000
DTEND;TZID=Europe/Zurich:20240819T160000
DTSTAMP:20260422T140502
CREATED:20231222T095041Z
LAST-MODIFIED:20231222T095041Z
UID:10001393-1724054400-1724083200@gemeinde-simplon.ch
SUMMARY:Schulbeginn
DESCRIPTION:
URL:https://gemeinde-simplon.ch/anlass/schulbeginn-3/
LOCATION:Schulhaus
END:VEVENT
BEGIN:VEVENT
DTSTART;TZID=Europe/Zurich:20240604T200000
DTEND;TZID=Europe/Zurich:20240604T220000
DTSTAMP:20260422T140502
CREATED:20231221T131627Z
LAST-MODIFIED:20231221T131627Z
UID:10001135-1717531200-1717538400@gemeinde-simplon.ch
SUMMARY:Monatsübung - Samariterverein
DESCRIPTION:﻿
URL:https://gemeinde-simplon.ch/anlass/monatsuebung-samariterverein-20/
LOCATION:Schulhaus
END:VEVENT
BEGIN:VEVENT
DTSTART;TZID=Europe/Zurich:20240525T200000
DTEND;TZID=Europe/Zurich:20240525T220000
DTSTAMP:20260422T140502
CREATED:20231221T130535Z
LAST-MODIFIED:20231221T130535Z
UID:10001366-1716667200-1716674400@gemeinde-simplon.ch
SUMMARY:Jahreskonzert - Musikgesellschaft Bleiken
DESCRIPTION:
URL:https://gemeinde-simplon.ch/anlass/jahreskonzert-musikgesellschaft-bleiken-3/
LOCATION:Schulhaus
END:VEVENT
BEGIN:VEVENT
DTSTART;TZID=Europe/Zurich:20240515T133000
DTEND;TZID=Europe/Zurich:20240515T170000
DTSTAMP:20260422T140502
CREATED:20231221T124653Z
LAST-MODIFIED:20231221T124653Z
UID:10001355-1715779800-1715792400@gemeinde-simplon.ch
SUMMARY:Jass- & Spielnachmittag - Frauengemeinschaft
DESCRIPTION:﻿
URL:https://gemeinde-simplon.ch/anlass/jass-spielnachmittag-frauengemeinschaft-9/
LOCATION:Schulhaus
END:VEVENT
BEGIN:VEVENT
DTSTART;TZID=Europe/Zurich:20240501T200000
DTEND;TZID=Europe/Zurich:20240501T220000
DTSTAMP:20260422T140502
CREATED:20231221T124411Z
LAST-MODIFIED:20240402T151719Z
UID:10001353-1714593600-1714600800@gemeinde-simplon.ch
SUMMARY:Monatsübung - Samariterverein
DESCRIPTION:
URL:https://gemeinde-simplon.ch/anlass/monatsuebung-samariterverein-19/
LOCATION:Schulhaus
END:VEVENT
BEGIN:VEVENT
DTSTART;TZID=Europe/Zurich:20240427T170000
DTEND;TZID=Europe/Zurich:20240427T233000
DTSTAMP:20260422T140502
CREATED:20231221T121627Z
LAST-MODIFIED:20231221T121627Z
UID:10001340-1714237200-1714260600@gemeinde-simplon.ch
SUMMARY:Jassmatch - Jugendverein Simplon
DESCRIPTION:﻿
URL:https://gemeinde-simplon.ch/anlass/jassmatch-jugendverein-simplon-2/
LOCATION:Schulhaus
END:VEVENT
BEGIN:VEVENT
DTSTART;TZID=Europe/Zurich:20240424T133000
DTEND;TZID=Europe/Zurich:20240424T170000
DTSTAMP:20260422T140502
CREATED:20231221T120749Z
LAST-MODIFIED:20231221T120749Z
UID:10001111-1713965400-1713978000@gemeinde-simplon.ch
SUMMARY:Jass- & Spielnachmittag - Frauengemeinschaft
DESCRIPTION:﻿
URL:https://gemeinde-simplon.ch/anlass/jass-spielnachmittag-frauengemeinschaft-8/
LOCATION:Schulhaus
END:VEVENT
BEGIN:VEVENT
DTSTART;TZID=Europe/Zurich:20240410T133000
DTEND;TZID=Europe/Zurich:20240410T170000
DTSTAMP:20260422T140502
CREATED:20231221T115926Z
LAST-MODIFIED:20231221T115926Z
UID:10001100-1712755800-1712768400@gemeinde-simplon.ch
SUMMARY:Jass- & Spielnachmittag - Frauengemeinschaft
DESCRIPTION:﻿
URL:https://gemeinde-simplon.ch/anlass/jass-spielnachmittag-frauengemeinschaft-7/
LOCATION:Schulhaus
END:VEVENT
BEGIN:VEVENT
DTSTART;TZID=Europe/Zurich:20240402T200000
DTEND;TZID=Europe/Zurich:20240402T220000
DTSTAMP:20260422T140502
CREATED:20231221T115200Z
LAST-MODIFIED:20231221T115200Z
UID:10001334-1712088000-1712095200@gemeinde-simplon.ch
SUMMARY:Monatsübung - Samariterverein
DESCRIPTION:﻿
URL:https://gemeinde-simplon.ch/anlass/monatsuebung-samariterverein-18/
LOCATION:Schulhaus
END:VEVENT
BEGIN:VEVENT
DTSTART;TZID=Europe/Zurich:20240327T133000
DTEND;TZID=Europe/Zurich:20240327T170000
DTSTAMP:20260422T140502
CREATED:20231221T113523Z
LAST-MODIFIED:20231221T113523Z
UID:10001326-1711546200-1711558800@gemeinde-simplon.ch
SUMMARY:Jass- & Spielnachmittag - Frauengemeinschaft
DESCRIPTION:﻿
URL:https://gemeinde-simplon.ch/anlass/jass-spielnachmittag-frauengemeinschaft-6/
LOCATION:Schulhaus
END:VEVENT
BEGIN:VEVENT
DTSTART;TZID=Europe/Zurich:20240321T193000
DTEND;TZID=Europe/Zurich:20240321T220000
DTSTAMP:20260422T140502
CREATED:20231221T112632Z
LAST-MODIFIED:20231221T112632Z
UID:10001321-1711049400-1711058400@gemeinde-simplon.ch
SUMMARY:Vortrag - Frauengemeinschaft
DESCRIPTION:﻿
URL:https://gemeinde-simplon.ch/anlass/vortrag-frauengemeinschaft/
LOCATION:Schulhaus
END:VEVENT
BEGIN:VEVENT
DTSTART;TZID=Europe/Zurich:20240315T190000
DTEND;TZID=Europe/Zurich:20240315T230000
DTSTAMP:20260422T140502
CREATED:20231220T164246Z
LAST-MODIFIED:20231220T164246Z
UID:10001086-1710529200-1710543600@gemeinde-simplon.ch
SUMMARY:Mitgliederabend Raiffeisen Belalp-Simplon
DESCRIPTION:﻿
URL:https://gemeinde-simplon.ch/anlass/mitgliederabend-raiffeisen-belalp-simplon/
LOCATION:Schulhaus
END:VEVENT
BEGIN:VEVENT
DTSTART;TZID=Europe/Zurich:20240313T133000
DTEND;TZID=Europe/Zurich:20240313T170000
DTSTAMP:20260422T140502
CREATED:20231220T155018Z
LAST-MODIFIED:20231220T155018Z
UID:10001084-1710336600-1710349200@gemeinde-simplon.ch
SUMMARY:Jass- & Spielnachmittag - Frauengemeinschaft
DESCRIPTION:﻿
URL:https://gemeinde-simplon.ch/anlass/jass-spielnachmittag-frauengemeinschaft-5/
LOCATION:Schulhaus
END:VEVENT
BEGIN:VEVENT
DTSTART;TZID=Europe/Zurich:20240312T200000
DTEND;TZID=Europe/Zurich:20240312T220000
DTSTAMP:20260422T140502
CREATED:20231220T151616Z
LAST-MODIFIED:20231220T151616Z
UID:10001080-1710273600-1710280800@gemeinde-simplon.ch
SUMMARY:Monatsübung - Samariterverein
DESCRIPTION:﻿
URL:https://gemeinde-simplon.ch/anlass/monatsuebung-samariterverein-17/
LOCATION:Schulhaus
END:VEVENT
BEGIN:VEVENT
DTSTART;TZID=Europe/Zurich:20240222T120000
DTEND;TZID=Europe/Zurich:20240222T150000
DTSTAMP:20260422T140502
CREATED:20231220T141649Z
LAST-MODIFIED:20240213T093650Z
UID:10001308-1708603200-1708614000@gemeinde-simplon.ch
SUMMARY:Fastensuppe - Frauengemeinschaft / Männerverein
DESCRIPTION:﻿﻿
URL:https://gemeinde-simplon.ch/anlass/fastensuppe-frauengemeinschaft-maennerverein/
LOCATION:Schulhaus
END:VEVENT
BEGIN:VEVENT
DTSTART;TZID=Europe/Zurich:20240221T133000
DTEND;TZID=Europe/Zurich:20240221T170000
DTSTAMP:20260422T140502
CREATED:20231220T141446Z
LAST-MODIFIED:20231220T141446Z
UID:10001307-1708522200-1708534800@gemeinde-simplon.ch
SUMMARY:Jass- & Spielnachmittag - Frauengemeinschaft
DESCRIPTION:﻿
URL:https://gemeinde-simplon.ch/anlass/jass-spielnachmittag-frauengemeinschaft-4/
LOCATION:Schulhaus
END:VEVENT
BEGIN:VEVENT
DTSTART;TZID=Europe/Zurich:20240208T133000
DTEND;TZID=Europe/Zurich:20240208T170000
DTSTAMP:20260422T140502
CREATED:20231220T135651Z
LAST-MODIFIED:20231220T135651Z
UID:10001299-1707399000-1707411600@gemeinde-simplon.ch
SUMMARY:Bunter Nachmittag
DESCRIPTION:﻿
URL:https://gemeinde-simplon.ch/anlass/bunter-nachmittag-2/
LOCATION:Schulhaus
END:VEVENT
BEGIN:VEVENT
DTSTART;TZID=Europe/Zurich:20240207T133000
DTEND;TZID=Europe/Zurich:20240207T170000
DTSTAMP:20260422T140502
CREATED:20231220T135325Z
LAST-MODIFIED:20231220T135325Z
UID:10001297-1707312600-1707325200@gemeinde-simplon.ch
SUMMARY:Jass- & Spielnachmittag - Frauengemeinschaft
DESCRIPTION:﻿
URL:https://gemeinde-simplon.ch/anlass/jass-spielnachmittag-frauengemeinschaft-3/
LOCATION:Schulhaus
END:VEVENT
BEGIN:VEVENT
DTSTART;TZID=Europe/Zurich:20240206T200000
DTEND;TZID=Europe/Zurich:20240206T220000
DTSTAMP:20260422T140502
CREATED:20231220T134908Z
LAST-MODIFIED:20231220T134908Z
UID:10001295-1707249600-1707256800@gemeinde-simplon.ch
SUMMARY:Monatsübung - Samariterverein
DESCRIPTION:﻿
URL:https://gemeinde-simplon.ch/anlass/monatsuebung-samariterverein-16/
LOCATION:Schulhaus
END:VEVENT
BEGIN:VEVENT
DTSTART;TZID=Europe/Zurich:20240124T133000
DTEND;TZID=Europe/Zurich:20240124T170000
DTSTAMP:20260422T140502
CREATED:20231220T131251Z
LAST-MODIFIED:20231220T131251Z
UID:10001055-1706103000-1706115600@gemeinde-simplon.ch
SUMMARY:Jass- & Spielnachmittag - Frauengemeinschaft
DESCRIPTION:﻿
URL:https://gemeinde-simplon.ch/anlass/jass-spielnachmittag-frauengemeinschaft-2/
LOCATION:Schulhaus
END:VEVENT
BEGIN:VEVENT
DTSTART;TZID=Europe/Zurich:20240113T170000
DTEND;TZID=Europe/Zurich:20240113T190000
DTSTAMP:20260422T140502
CREATED:20231220T130016Z
LAST-MODIFIED:20231220T130251Z
UID:10001289-1705165200-1705172400@gemeinde-simplon.ch
SUMMARY:Probeabend - Chruitfrässär
DESCRIPTION:﻿﻿
URL:https://gemeinde-simplon.ch/anlass/probeabend-chruitfraessaer-2/
LOCATION:Schulhaus
END:VEVENT
BEGIN:VEVENT
DTSTART;TZID=Europe/Zurich:20240110T133000
DTEND;TZID=Europe/Zurich:20240110T170000
DTSTAMP:20260422T140502
CREATED:20231220T125658Z
LAST-MODIFIED:20231220T125658Z
UID:10001287-1704893400-1704906000@gemeinde-simplon.ch
SUMMARY:Jass- & Spielnachmittag - Frauengemeinschaft
DESCRIPTION:﻿
URL:https://gemeinde-simplon.ch/anlass/jass-spielnachmittag-frauengemeinschaft/
LOCATION:Schulhaus
END:VEVENT
BEGIN:VEVENT
DTSTART;TZID=Europe/Zurich:20231215T140000
DTEND;TZID=Europe/Zurich:20231215T170000
DTSTAMP:20260422T140502
CREATED:20221220T144859Z
LAST-MODIFIED:20221220T144859Z
UID:10001272-1702648800-1702659600@gemeinde-simplon.ch
SUMMARY:Seniorenweihnacht
DESCRIPTION:
URL:https://gemeinde-simplon.ch/anlass/seniorenweihnacht-2/
LOCATION:Schulhaus
END:VEVENT
BEGIN:VEVENT
DTSTART;TZID=Europe/Zurich:20231213T133000
DTEND;TZID=Europe/Zurich:20231213T173000
DTSTAMP:20260422T140502
CREATED:20221220T144813Z
LAST-MODIFIED:20221220T150541Z
UID:10001271-1702474200-1702488600@gemeinde-simplon.ch
SUMMARY:Jass- und Spielnachmittag - Frauengemeinschaft
DESCRIPTION:
URL:https://gemeinde-simplon.ch/anlass/jass-und-spielnachmittag-frauengemeinschaft-19/
LOCATION:Schulhaus
END:VEVENT
BEGIN:VEVENT
DTSTART;TZID=Europe/Zurich:20231212T200000
DTEND;TZID=Europe/Zurich:20231212T220000
DTSTAMP:20260422T140502
CREATED:20221220T144637Z
LAST-MODIFIED:20221221T142600Z
UID:10001270-1702411200-1702418400@gemeinde-simplon.ch
SUMMARY:Monatsübung - Samariterverein
DESCRIPTION:﻿
URL:https://gemeinde-simplon.ch/anlass/monatsuebung-samariterverein-15/
LOCATION:Schulhaus
END:VEVENT
BEGIN:VEVENT
DTSTART;TZID=Europe/Zurich:20231206T133000
DTEND;TZID=Europe/Zurich:20231206T170000
DTSTAMP:20260422T140502
CREATED:20221220T134452Z
LAST-MODIFIED:20221220T134452Z
UID:10001035-1701869400-1701882000@gemeinde-simplon.ch
SUMMARY:Jass- und Spielnachmittag Nikolausbesuch - Frauengemeinschaft
DESCRIPTION:
URL:https://gemeinde-simplon.ch/anlass/jass-und-spielnachmittag-nikolausbesuch-frauengemeinschaft/
LOCATION:Schulhaus
END:VEVENT
BEGIN:VEVENT
DTSTART;TZID=Europe/Zurich:20231122T133000
DTEND;TZID=Europe/Zurich:20231122T170000
DTSTAMP:20260422T140502
CREATED:20221220T132044Z
LAST-MODIFIED:20221220T132044Z
UID:10001261-1700659800-1700672400@gemeinde-simplon.ch
SUMMARY:Jass- und Spielnachmittag - Frauengemeinschaft
DESCRIPTION:
URL:https://gemeinde-simplon.ch/anlass/jass-und-spielnachmittag-frauengemeinschaft-18/
LOCATION:Schulhaus
END:VEVENT
BEGIN:VEVENT
DTSTART;TZID=Europe/Zurich:20231108T133000
DTEND;TZID=Europe/Zurich:20231108T173000
DTSTAMP:20260422T140502
CREATED:20221220T131120Z
LAST-MODIFIED:20221220T131120Z
UID:10001253-1699450200-1699464600@gemeinde-simplon.ch
SUMMARY:Jass- und Spielnachmittag - Frauengemeinschaft
DESCRIPTION:
URL:https://gemeinde-simplon.ch/anlass/jass-und-spielnachmittag-frauengemeinschaft-17/
LOCATION:Schulhaus
END:VEVENT
BEGIN:VEVENT
DTSTART;TZID=Europe/Zurich:20231107T200000
DTEND;TZID=Europe/Zurich:20231107T220000
DTSTAMP:20260422T140502
CREATED:20221220T131029Z
LAST-MODIFIED:20221220T131029Z
UID:10001252-1699387200-1699394400@gemeinde-simplon.ch
SUMMARY:Monatsübung - Samariterverein
DESCRIPTION:
URL:https://gemeinde-simplon.ch/anlass/monatsuebung-samariterverein-14/
LOCATION:Schulhaus
END:VEVENT
BEGIN:VEVENT
DTSTART;TZID=Europe/Zurich:20231107T083000
DTEND;TZID=Europe/Zurich:20231107T103000
DTSTAMP:20260422T140502
CREATED:20221220T130925Z
LAST-MODIFIED:20221220T130940Z
UID:10001251-1699345800-1699353000@gemeinde-simplon.ch
SUMMARY:Turnbeginn Fun for Fit - Damenturnverein
DESCRIPTION:
URL:https://gemeinde-simplon.ch/anlass/turnbeginn-fun-for-fit-damenturnverein/
LOCATION:Schulhaus
END:VEVENT
END:VCALENDAR